BEGIN:VCALENDAR
VERSION:2.0
PRODID:-//wp-events-plugin.com//7.2.3.1//EN
TZID:Australia/Sydney
X-WR-TIMEZONE:Australia/Sydney
BEGIN:VEVENT
UID:3379@unswoc.org
DTSTART;TZID=Australia/Sydney:20240303T093000
DTEND;TZID=Australia/Sydney:20240303T170000
DTSTAMP:20240226T231655Z
URL:https://unswoc.org/wordpress/events/beginner-intermediate-mountain-bik
 ing-trip/
SUMMARY:Beginner/Intermediate Mountain Biking Trip
DESCRIPTION:****TRIP FULL - wow that filled up quick. If you missed out thi
 s time don’t worry. We’ll try run some more regular club MTB trips soo
 n. The final “available” spot on the website is to serve as a waiting 
 list. Should anyone drop out we will contact those who’d requested a spo
 t but missed out****\n\nHey all\,\n\nThis Sunday Zee and I (Bennett) will 
 be heading to H20 Mountain Bike trails in Westleigh for a super fun beginn
 er/intermediate mountain biking trip.\n\nH20 has a great mix of green (eas
 y) and blue (intermediate) trails perfect for those getting into the sport
 . Keep in mind that even green trails in Sydney can still tend to be a lit
 tle rocky and challenging at times\, so some basic bike control is a must 
 (ie prior mountain biking experience will help\, but if you're comfortable
  riding a bike and this is your first time mountain biking you're still in
  for a super fun time - just might have to walk the occasional short secti
 on of trail).\n\nWe'll be meeting at the trailhead in Westleigh at 9:30am 
 on Sunday. If you have a car there is plenty of free parking available. If
  you need to catch public transport with your bike the nearest train stati
 on looks to be Thornleigh\, approx a 20 minute/3.5km ride to the trails ac
 cording to google maps.\n\n\n\nWhen/Where:\n\n 	Trailhead at Westleight H2
 0 Mountain Bike trails at 9:30am this Sunday\n 	We'll ride for a few hours
  exploring the network then head home\n\nWhat to Bring\n\n 	A mountain bik
 e - doesn't have to be top of the line\, but something with front suspensi
 on\, disc brakes and wide\, offroad tyres at a minimum. If you have any qu
 estions about your bike please feel free to shoot me a message.\n\n 	Note\
 , unfortunately the club does not have mountain bikes for hire. So you'll 
 need your own bike (or borrow a friend's)\n 	Make sure your mountain bike 
 is working BEFORE Saturday morning. Zee and I will not be able to do maint
 enance on bikes while the group waits eagerly for the ride. Check your tyr
 es\, gears\, suspension etc before Saturday please.\n\n\n 	A bike helmet\n
 \n 	No rock climbing helmets - save those for the crag please\n\n\n 	Water
 \n\n 	Expect a hot day\, bring plenty of water on your bike/in a small bac
 kpack\n\n\n 	Snacks\n\n 	Enough snacks to keep you fuelled for a few hours
 . There are no food options immediately nearby\n\n\n 	Any personal medicat
 ion\n 	Sports clothing to exercise in\n 	Protection\n\n 	If you have knee 
 pads\, gloves\, etc. If not that's ok.\n\n\n 	Repairs - any spares you hav
 e for your bike (spare tube\, pump\, etc)\n\nSignups\n\n 	Make sure to let
  us know how you'll be getting to the trails (car\, train\, etc) and if yo
 u'd have room in your car for anyone else (including their bike)\n 	Lastly
 \, make sure you include if you have any prior mountain biking experience 
 in your sign up comment\n\nIf you have any questions\, feel free to send m
 yself (Bennett Frerck) a message on Facebook.\n\nGet excited for a great d
 ay out exploring the trails!
CATEGORIES:Mountain Biking
LOCATION:https://www.google.com/maps/dir/Station+St,+Thornleigh+NSW+2120/We
 stleigh+H2O+Mountain+Bike+Track,+Warrigal+Dr,+Westleigh+NSW+2120/@-33.7227
 499,151.0675436,15z/data=!3m1!4b1!4m14!4m13!1m5!1m1!1s0x6b12a71d49226181:0
 x5c44e2feb25b43c2!2m2!1d151.0815979!2d-33.7329!1m5!1m1!1s0x6b12a75c2c4d0b8
 3:0xd850a21eb84b8aec!2m2!1d151.0739945!2d-33.7126735!3e1?entry=ttu
END:VEVENT
BEGIN:VTIMEZONE
TZID:Australia/Sydney
X-LIC-LOCATION:Australia/Sydney
BEGIN:DAYLIGHT
DTSTART:20231001T030000
TZOFFSETFROM:+1000
TZOFFSETTO:+1100
TZNAME:AEDT
END:DAYLIGHT
END:VTIMEZONE
END:VCALENDAR