BEGIN:VCALENDAR
VERSION:2.0
PRODID:-//wp-events-plugin.com//7.2.3.1//EN
TZID:Australia/Sydney
X-WR-TIMEZONE:Australia/Sydney
BEGIN:VEVENT
UID:2671@unswoc.org
DTSTART;TZID=Australia/Sydney:20200712T093000
DTEND;TZID=Australia/Sydney:20200712T160000
DTSTAMP:20200706T095635Z
URL:https://unswoc.org/wordpress/events/beginner-intermediate-mountain-bik
 ing-trip-to-mill-creek/
SUMMARY:Beginner/Intermediate Mountain biking trip to Mill Creek
DESCRIPTION:\nNote\, this photo is not from Mill Creek and any jumps there 
 are entirely optional. I just really like this photo from a while back.\nH
 ey all.\n\nThis Sunday\, Hamish and I (Bennett) will be running a mountain
  bike trip to Mill Creek in Menai. Mill creek has a really fun mix of flow
  and tech trails with one of Sydney's only machine built trails.\n\n&nbsp\
 ;\n\nThe trails are rated a mix of beginner green and intermediate blue\, 
 keeping in mind that even Sydney's easy trails can get quite rocky. Ideall
 y\, you'll want some prior mountain biking experience before attending thi
 s trip. Send me a message if you've got questions about the level of trail
 s.\n\n&nbsp\;\n\nPlan is to meet in the morning\, ride for a few hours exp
 loring the trail network and then head home. We'll be meeting at the ANSTO
  nuclear science carpark and riding from there. We'll figure out specific 
 times in a group chat with those signed up. It's worth noting the trails a
 ren't super easy to access by bike with freeways on approach so travel by 
 car is recommended.\n\n\n\n&nbsp\;\n\n&nbsp\;\n\n&nbsp\;\n\n&nbsp\;\n\n&nb
 sp\;\n\n&nbsp\;\n\n&nbsp\;\n\nWhat you'll need:\n\n 	Mountain Bike - the c
 lub does not own any so you'll need your own (or borrow a friends). Please
  check everything works before coming.\n 	Bike specific Helmet - Bring oth
 er safety gear if you have/want it\, but a helmet is mandatory. Please no 
 rock climbing helmets.\n 	Water - Even though its winter you'll want some 
 water throughout the ride\n 	Repairs - basic repairs\, e.g. tube\, multi-t
 ool\n 	Snacks - either for during the ride or back at the cars afterwards\
 n\n&nbsp\;\n\nSend a message on facebook if you have any questions about t
 he trip. Otherwise comment any mountain biking experience you have in the 
 signup request. Keen to see you all there.
ATTACH;FMTTYPE=image/jpeg:https://unswoc.org/wordpress/wp-content/uploads/
 2020/07/Mt-Narra-with-Oli-4.png
CATEGORIES:Biking,Mountain Biking
END:VEVENT
BEGIN:VTIMEZONE
TZID:Australia/Sydney
X-LIC-LOCATION:Australia/Sydney
BEGIN:STANDARD
DTSTART:20200405T020000
TZOFFSETFROM:+1100
TZOFFSETTO:+1000
TZNAME:AEST
END:STANDARD
END:VTIMEZONE
END:VCALENDAR