BEGIN:VCALENDAR
VERSION:2.0
PRODID:-//wp-events-plugin.com//7.2.3.1//EN
TZID:Australia/Sydney
X-WR-TIMEZONE:Australia/Sydney
BEGIN:VEVENT
UID:3296@unswoc.org
DTSTART;TZID=Australia/Sydney:20230730T083000
DTEND;TZID=Australia/Sydney:20230730T163000
DTSTAMP:20230728T035647Z
URL:https://unswoc.org/wordpress/events/beginner-intermediate-mountain-bik
 e-trip-the-oaks-trail/
SUMMARY:Beginner/Intermediate Mountain Bike Trip – The Oaks Trail
DESCRIPTION:Hi Everyone!\n\nZee and Bennett will be running a mountain bike
  trip to the Oaks Trail in the lower Blue Mountains this Sunday.\n\n&nbsp\
 ;\n\nThe plan is to meet at Glenbrook station at 8:30am and catch the t
 rain up to Woodford. From there we’ll be riding the 17km Oaks Fire trail
  back down the Blue Mountains. At the end of the fire trail there will be 
 7km of intermediate difficulty single track to enjoy on the way back down 
 to Glenbrook. Without any major hiccups we should be back at Glenbrook sta
 tion in the early afternoon. The trail is mostly downhill but does have a 
 few short climbs and is about 24km in total.\n\n&nbsp\;\n\nWhilst some pri
 or mountain biking experience will help\, the Oaks Trail is a great place 
 for beginners who want to give the sport a first try. Feel free to message
  us on facebook if you have any questions about this.\n\n&nbsp\;\n\n&nbsp\
 ;\nOaks Fire and Single Track from Woodford back down to Glenbrook\n&nbsp\
 ;\n\n&nbsp\;\n\nWhat you’ll need:\n\n 	A mountain bike – PLEASE chec
 k that your bike is working BEFORE you arrive on Sunday’s trip.\n\n 	Esp
 ecially important on this trip because we don’t want to miss the 9:27 tr
 ain\, next one is an hour later\, because we are busy fixing someone's bik
 e.\n 	At a minimum your bike must have front suspension and tires suitable
  for off road riding. If you have questions about whether your bike is sui
 table send Zee or Bennett a message.\n 	Unfortunately\, the club does not 
 have mountain bikes for use. Ask a friend if you can borrow theirs if if y
 ou’re really keen to come along.\n\n\n 	A bicycle helmet – not a roc
 k climbing helmet 🙂\n 	Food – Enough snacks to get you through a few
  hours of riding till the afternoon\n 	Water – Enough water to keep you
  hydrated\, especially if it’s a warm day\n 	Spares – Always good to 
 carry some basic spares for your bike\, e.g. tube\, pump\, patch kit.\n 	A
  keen attitude for a great ride\n\nI will set up a messenger group chat fo
 r those on the trip during the week. Message me if you have any questions.
  And let me know any mountain biking experience you have in the signup c
 omment below (also so I know you actually read this info).\n\n&nbsp\;\n\nN
 ote: this trip is weather dependent so we’ll be keeping an eye on rain a
 nd the forecast throughout the week. Also\, the last signup spot is for a 
 waiting list only\, not an actual spot.
CATEGORIES:Mountain Biking
LOCATION:https://goo.gl/maps/khg2X2cjNj8o1eqZ7
END:VEVENT
BEGIN:VTIMEZONE
TZID:Australia/Sydney
X-LIC-LOCATION:Australia/Sydney
BEGIN:STANDARD
DTSTART:20230402T020000
TZOFFSETFROM:+1100
TZOFFSETTO:+1000
TZNAME:AEST
END:STANDARD
END:VTIMEZONE
END:VCALENDAR