BEGIN:VCALENDAR
VERSION:2.0
PRODID:-//wp-events-plugin.com//7.2.3.1//EN
TZID:Australia/Sydney
X-WR-TIMEZONE:Australia/Sydney
BEGIN:VEVENT
UID:3557@unswoc.org
DTSTART;TZID=Australia/Sydney:20250315T100000
DTEND;TZID=Australia/Sydney:20250315T180000
DTSTAMP:20250307T050754Z
URL:https://unswoc.org/wordpress/events/beginner-intermediate-climbing-wak
 ehurst-parkway-steep-side-15th-march/
SUMMARY:Beginner/Intermediate Climbing | Wakehurst Parkway Steep Side | 15t
 h March
DESCRIPTION:Hey there crushers\,\n&nbsp\;\n\nAmelia K and I (Keith) will be
  leading a beginner sport climbing trip on Saturday the 15th of March to W
 akehurst Parkway Steep side Crag. It's located about 10 minutes drive fro
 m Narrabeen lake or about a 50 minute drive from campus.\n\nNo climbing ex
 perience is required! Amelia and I will set up some top rope climbs for ev
 eryone and for those who are more advanced\, we will help you project some
  of the harder climbs at the crag. This is a great opportunity to get out 
 and touch some grass as well as learn some new climbing skills.\n\nThe cra
 g carpark for this location is quite small and also a little sketchy to pa
 rk at so we will organise carpooling to get to this location. The carpark 
 is located HERE .\n\n&nbsp\;\n\nWhat to bring:\n\n&nbsp\;\n\nWater – at 
 least 2L\n\nFood – lunch and snacks\n\nHelmet*\n\nHarness*\n\nBelay devi
 ce and carabiner*\n\nClimbing shoes* (optional but highly recommended)\n\n
 Rain jacket and warm clothes\n\nComfortable shoes to walk in\n\nSunscreen\
 n\nInsect repellent\n\nYour favourite stuffed animal\n\n* These items can 
 be borrowed from the gear cupboard on Thursday night!\n\n&nbsp\;\n\nIf you
 ’re interested\, please sign up with a comment that includes: any climbi
 ng experience you have\, whether you have a car and how many spare seats y
 ou’d have\, and what stuffed animal you'll be bringing. Once approved\, 
 we’ll add you to a group chat to give any other required info and organi
 se carpooling – please make sure that your facebook profile link is eith
 er in your account or added to your comment to make our job easier here!\n
 \n&nbsp\;\n\nIf you’ve got any questions or concerns\, feel free to mess
 age Amelia or I (Keith) on Facebook.\n\n&nbsp\;\n\nSee you there!
ATTACH;FMTTYPE=image/jpeg:https://unswoc.org/wordpress/wp-content/uploads/
 2025/03/Screenshot-2025-03-04-091702.jpeg
CATEGORIES:Outdoor Climbing
LOCATION:https://maps.app.goo.gl/RRqd8b71RMXoUuNa9
END:VEVENT
BEGIN:VTIMEZONE
TZID:Australia/Sydney
X-LIC-LOCATION:Australia/Sydney
BEGIN:DAYLIGHT
DTSTART:20241006T030000
TZOFFSETFROM:+1000
TZOFFSETTO:+1100
TZNAME:AEDT
END:DAYLIGHT
END:VTIMEZONE
END:VCALENDAR