BEGIN:VCALENDAR
VERSION:2.0
PRODID:-//wp-events-plugin.com//7.2.3.1//EN
TZID:Australia/Sydney
X-WR-TIMEZONE:Australia/Sydney
BEGIN:VEVENT
UID:2746@unswoc.org
DTSTART;TZID=Australia/Sydney;VALUE=DATE:20201010
DTEND;TZID=Australia/Sydney;VALUE=DATE:20201011
DTSTAMP:20201006T035340Z
URL:https://unswoc.org/wordpress/events/beginner-intermediate-climbing-tri
 p/
SUMMARY:Beginner/Intermediate Climbing Trip
DESCRIPTION:This weekend\, Sammy and I (Nic) will be leading a rad beginner
 /intermediate trip to a Sydney crag! Exact crag TBA.\n\n 	The plan:  Spen
 d a great day climbing up some cool rocks. Please comment how you plan to 
 get to the crag. Due to COVID19 we do not recommend car pooling/catching p
 ublic transport.\n 	The gear: you’ll need a HELMET\, HARNESS\, and clim
 bing SHOES. They can be borrowed from the gear cupboard at UNSW (for free\
 , but bring a small $ deposit)\, please check the Facebook page to find ou
 t when the gear cupboard opens. If you have your own gear\, bring it of co
 urse!\n 	The rest: bring warm clothes\, enclosed comfortable shoes for th
 e hike in\, water (2L) and food for the day\, any personal meds\, sunscree
 n\, a phone full of battery\, and a headtorch (we sometimes finish in the 
 dark so the walkout may be in the dark).\n\nDISCLAIMER: If you are sick\, 
 have been in contact with a COVID case\, or have been to Vitoria or overse
 as in the past 2 weeks\, you CANNOT attend this trip\, unfortunately. Hand
  sanitizer will be provided\, let’s keep safe &lt\;3 Furthermore\, pleas
 e avoid any interactions with other people where possible.\n\nAny question
 s\, message me (Nicolas Di Campli) on Facebook. See ya there!
ATTACH;FMTTYPE=image/jpeg:https://unswoc.org/wordpress/wp-content/uploads/
 2020/07/Nic-1.jpg
END:VEVENT
BEGIN:VTIMEZONE
TZID:Australia/Sydney
X-LIC-LOCATION:Australia/Sydney
BEGIN:DAYLIGHT
DTSTART:20201004T030000
TZOFFSETFROM:+1000
TZOFFSETTO:+1100
TZNAME:AEDT
END:DAYLIGHT
END:VTIMEZONE
END:VCALENDAR