BEGIN:VCALENDAR
VERSION:2.0
PRODID:-//wp-events-plugin.com//7.2.3.1//EN
TZID:Australia/Sydney
X-WR-TIMEZONE:Australia/Sydney
BEGIN:VEVENT
UID:2397@unswoc.org
DTSTART:20190330T210000Z
DTEND:20190331T060000Z
DTSTAMP:20190326T204614Z
URL:https://unswoc.org/wordpress/events/beginner-intermediate-climbing-sut
 herland/
SUMMARY:Beginner/Intermediate climbing - Sutherland
DESCRIPTION:Did you go climbing at Boree Log and it left you wanting more? 
 Well don’t worry\, you only have to wait till this weekend to get your f
 ix!\n\nSophie\, Greta and I will be leading a climbing trip to The Cathedr
 al in Sutherland on Sunday. This is a Sydney crag so no 2 hour drive on Sa
 turday morning – it’ll be a relaxed start for a great day of climbing.
 \n\nWe’ve marked this as a beginner/intermediate trip so if you’ve bee
 n spending a bit of time at The Ledge and maybe have been on a trip or two
  then sign up and come along! Make sure you shoot one of us (Sophie Meynia
 l\, Greta Rit\, Ash Brennan) a message if you’re keen to come with your 
 level of experience\, excitement and favourite snack. Also mention if you 
 have a car\, as we will be carpooling to get there.\n\nThings that you wil
 l need which can be borrowed from the club on gear night:\n\n 	Harness\n 	
 ATC\n 	Carabiner\n 	Helmet\n 	Climbing shoes\n\nOther things you will need
 :\n\n 	Food\n 	Water\n 	Backpack\n 	Sunscreen\n 	Rain jacket\n 	$5 fuel mo
 ney\n\nRain jacket
CATEGORIES:Outdoor Climbing
END:VEVENT
END:VCALENDAR