BEGIN:VCALENDAR
VERSION:2.0
PRODID:-//wp-events-plugin.com//7.2.3.1//EN
TZID:Australia/Sydney
X-WR-TIMEZONE:Australia/Sydney
BEGIN:VEVENT
UID:3423@unswoc.org
DTSTART;TZID=Australia/Sydney:20240601T090000
DTEND;TZID=Australia/Sydney:20240601T160000
DTSTAMP:20240529T093030Z
URL:https://unswoc.org/wordpress/events/beginner-intermediate-climbing-nar
 rabeen-slab/
SUMMARY:CANCELLED DUE TO WEATHER Beginner/Intermediate Climbing @ Narrabeen
  Slab (Pending\, weather)
DESCRIPTION:Hey there crushers\,\n\nLucas\, Louis\, and I (Ryan) will be le
 ading a rock climbing trip to Narrabeen Slabs in Sydney on Saturday (Weath
 er allowing\, which is...).\n\nNo outdoor climbing experience is required 
 as we’ll be setting up top ropes. We will teach you the basics of how to
  safely climb outdoors but it is preferred that you have a basic level of 
 competency with indoor rock climbing. The easiest climbs are between grade
  15 and 18.\n\nPlease include in the comments:\n\n 	Your rock climbing exp
 erience/grade\n 	Your favourite superhero\; and\n 	What climbing gear you 
 need\n\nWe will meet up at 9:00am on Saturday morning at Narrabeen Slabs a
 t the gate by the road side of Wakehurst Parkway. If you are late\, then y
 ou can meet us at the crag. If you do not own all the gear required you ca
 n pick it up free from the gear cupboard\n\n 	Gear required: harness\, he
 lmet\, climbing shoes\, ATC + carabiner (if you have your own make sure yo
 u bring it!!!).\n 	What to bring: At least 2L of water\, food for the day\
 , maneouverable clothes\, a day backpack to fit all your stuff inside\, ca
 mera\, smiles etc.\n 	Meeting point: 9:00am at Narrabeen Slabs. Check the 
 following link for instructions on where to go and where to park. Be VERY 
 CAREFUL with pulling over\, parking and crossing the road\, as cars are co
 ming at high speeds. https://www.thecrag.com/climbing/australia/northern-b
 eaches/area/13101841\n\nSee you there!\n\nLucas Low\, Ryan Van Dyk
CATEGORIES:Outdoor Climbing
LOCATION:https://maps.app.goo.gl/89wt99Yep9RcJJBE6
END:VEVENT
BEGIN:VTIMEZONE
TZID:Australia/Sydney
X-LIC-LOCATION:Australia/Sydney
BEGIN:STANDARD
DTSTART:20240407T020000
TZOFFSETFROM:+1100
TZOFFSETTO:+1000
TZNAME:AEST
END:STANDARD
END:VTIMEZONE
END:VCALENDAR