BEGIN:VCALENDAR
VERSION:2.0
PRODID:-//wp-events-plugin.com//7.2.3.1//EN
TZID:Australia/Sydney
X-WR-TIMEZONE:Australia/Sydney
BEGIN:VEVENT
UID:627@unswoc.org
DTSTART:20141010T200000Z
DTEND:20141011T060000Z
DTSTAMP:20141004T182608Z
URL:https://unswoc.org/wordpress/events/beginner-intermediate-climbing-med
 low-bath/
SUMMARY:Beginner and intermediate Climbing @ Medlow Bath
DESCRIPTION:Hello friends! :)\n\nRene and I will be running a climbing trip
  to Medlow Bath on Sat 11th Oct. Leaving UNSW at 7am. (if you would be hap
 py to drive\, pleaseeee let us know! :))\n\nClimbs range from 13 to 22 (sp
 ort climbs) so there should be something for everyone! YAAAY! :)\n\nhttp:/
 /www.thecrag.com/climbing/australia/blue-mountains/medlow-bath/area/131433
 67\n\nThings to bring:\n\n	water\n	lunch\n	harness\n	shoes\n	chalkbag\n	He
 lmet\n\n(If you don't own the last 4 items let us know when you sign up. y
 ou can borrow from the club :))\n\nBeginners are definitely welcome! :D pl
 ease just send us a message before you sign up for the trip so we know how
  many top ropes to set up.\n\nTHANKS GUYS! :) :)
LOCATION:Medlow Bath\, Belgravia Street\, Medlow Bath\, NSW\, Australia
GEO:-33.671894;150.278442
X-APPLE-STRUCTURED-LOCATION;VALUE=URI;X-ADDRESS=Belgravia Street\, Medlow B
 ath\, NSW\, Australia;X-APPLE-RADIUS=100;X-TITLE=Medlow Bath:geo:-33.67189
 4,150.278442
END:VEVENT
END:VCALENDAR