BEGIN:VCALENDAR
VERSION:2.0
PRODID:-//wp-events-plugin.com//7.2.3.1//EN
TZID:Australia/Sydney
X-WR-TIMEZONE:Australia/Sydney
BEGIN:VEVENT
UID:3111@unswoc.org
DTSTART;TZID=Australia/Sydney;VALUE=DATE:20221030
DTEND;TZID=Australia/Sydney;VALUE=DATE:20221031
DTSTAMP:20221026T013333Z
URL:https://unswoc.org/wordpress/events/beginner-intermediate-canyon/
SUMMARY:Beginner/Intermediate Canyon** FULL
DESCRIPTION:Come get frozen with Nadav\, Luke and Alfie as we explore some 
 narrow slots and waterfalls!\n\n&nbsp\;\n\nThe canyon will be chosen based
  on the groups experience so make sure to comment your experience canyonin
 g\, rock scrambling and abseiling.\n\nExpect a full day of cold and beauti
 ful scenery.\n\n\n\nEssential gear:\n\n 	Harness\n 	Helmet\n 	Carabiners x
  2\n 	safety sling or PAS\n 	Figure 8 device (or similar or descender)\n 	
 Emergency blanket\n 	Backpack\n 	Headtorch\n 	Drybag\n 	Grippy Shoes\n 	We
 tsuit\n 	Neoprene socks or Woollen/synthetic socks\n 	Headtorch\n 	Spare s
 et of thermals and warm clothes to carry in your drybag (for emergencies)\
 n 	Raincoat / windbreaker\n 	Breakfast\, lunch and snacks!\n 	At least 2l 
 of water\n 	Dry clothes and shoes for the car ride back\n 	No cotton (it g
 ets very cold when wet)\n\n&nbsp\;\n\nPlease comment any experience/questi
 ons you have in the comment box below and what's your favourite place in t
 he Blue Mountains. Also comment your car and the number of seats available
 .
CATEGORIES:Canyoning
END:VEVENT
BEGIN:VTIMEZONE
TZID:Australia/Sydney
X-LIC-LOCATION:Australia/Sydney
BEGIN:DAYLIGHT
DTSTART:20221002T030000
TZOFFSETFROM:+1000
TZOFFSETTO:+1100
TZNAME:AEDT
END:DAYLIGHT
END:VTIMEZONE
END:VCALENDAR