BEGIN:VCALENDAR
VERSION:2.0
PRODID:-//wp-events-plugin.com//7.2.3.1//EN
TZID:Australia/Sydney
X-WR-TIMEZONE:Australia/Sydney
BEGIN:VEVENT
UID:2888@unswoc.org
DTSTART;TZID=Australia/Sydney;VALUE=DATE:20210328
DTEND;TZID=Australia/Sydney;VALUE=DATE:20210329
DTSTAMP:20210325T102251Z
URL:https://unswoc.org/wordpress/events/beginner-intermediate-boulders-at-
 the-front/
SUMMARY:Beginner/Intermediate - Boulders at the Front
DESCRIPTION:Hey everyone\,\n\nCam and I (Nic) will be leading an intermedia
 te\, but still beginner friendly bouldering trip at the Frontlines in Baul
 kham Hills this Sunday (28th March). It’s a spot filled with great bould
 ers with a short walk in – a perfect crag for beginners or intermediate 
 climbers. No climbing experience required!\n\nYou will need:\n\n 	Climbing
  shoes (can be borrowed from the club)\n 	Chalkbag/liquid chalk\n 	3L wate
 r\n 	Sunscreen\n 	Lunch and snacks\n 	A pad\, if you have one\n\nIf you’
 ve got any questions\, feel free to message Cameron Harkins or myself (Nic
 olas Di Campli) on Facebook. When signing up please write down the experie
 nce you have (including what grades you climb indoor/outdoor)\, any gear y
 ou need\, and your favourite crag snack. You should swing by the gear cupb
 oard if you need any gear.\n\nLooking forward to seeing you there!
END:VEVENT
BEGIN:VTIMEZONE
TZID:Australia/Sydney
X-LIC-LOCATION:Australia/Sydney
BEGIN:DAYLIGHT
DTSTART:20201004T030000
TZOFFSETFROM:+1000
TZOFFSETTO:+1100
TZNAME:AEDT
END:DAYLIGHT
END:VTIMEZONE
END:VCALENDAR