BEGIN:VCALENDAR
VERSION:2.0
PRODID:-//wp-events-plugin.com//7.2.3.1//EN
TZID:Australia/Sydney
X-WR-TIMEZONE:Australia/Sydney
BEGIN:VEVENT
UID:3219@unswoc.org
DTSTART;TZID=Australia/Sydney:20230311T090000
DTEND;TZID=Australia/Sydney:20230311T183000
DTSTAMP:20230309T051802Z
URL:https://unswoc.org/wordpress/events/beginner-intermediate-bouldering-a
 t-the-frontline/
SUMMARY:Beginner/Intermediate Bouldering at the Frontline
DESCRIPTION:Hi everyone!\n\nGabe and I (Nic) will be running a trip to Fron
 tline in the Balkans and we’d love for you to join us for the trip!\n\nS
 o bring your stoke and get excited for some amazing climbing!\n\nThe crag:
  https://www.thecrag.com/en/climbing/australia/north-west/the-frontline 
 \n\nWe will meet at the crag at 9am for an early start.\n\nIn the comments
  let us know your experience with bouldering indoors and outdoors\, if you
  have a pad you can bring\, and your favourite Sydney boulder gym.\n\nAlso
  please let us know if you have a car (those with cars will be almost guar
 anteed spots!)\n\nYou will need:\n\n 	Climbing shoes\n 	WATER (2L minimum)
 \n 	Lunch\n 	Sun protection\n 	Chalk Bags (if you have one!)\n 	Boulder pa
 ds (if you have one!)\n\nSee you there !
ATTACH;FMTTYPE=image/jpeg:https://unswoc.org/wordpress/wp-content/uploads/
 2021/02/959E33A0-AD26-4784-9FE3-F263E949E767.jpeg
END:VEVENT
BEGIN:VTIMEZONE
TZID:Australia/Sydney
X-LIC-LOCATION:Australia/Sydney
BEGIN:DAYLIGHT
DTSTART:20221002T030000
TZOFFSETFROM:+1000
TZOFFSETTO:+1100
TZNAME:AEDT
END:DAYLIGHT
END:VTIMEZONE
END:VCALENDAR