BEGIN:VCALENDAR
VERSION:2.0
PRODID:-//wp-events-plugin.com//7.2.3.1//EN
TZID:Australia/Sydney
X-WR-TIMEZONE:Australia/Sydney
BEGIN:VEVENT
UID:747@unswoc.org
DTSTART;VALUE=DATE:20150315
DTEND;VALUE=DATE:20150316
DTSTAMP:20150311T004818Z
URL:https://unswoc.org/wordpress/events/beginner-hike/
SUMMARY:Beginner Hike - Location to be determined
DESCRIPTION:I will be leading a hike on Sunday. Destination will depend on 
 number of participants\, availability of cars\, and level of hangover. It 
 will be an easy to moderate on-track hike on the order of 10 km or so. I w
 ill post more details by the end of the week. When you register for the ev
 ent please send me an email letting me know if you will have a car at Bore
 e Log and what you are interested in seeing or doing (i.e. waterfalls\, hi
 storical sites\, peaks\, valley-views\, etc). Also\, feel free to suggest 
 a hike that you are interested in doing. You can find some motivation here
  and here.\n\nYou will need to bring:\n\n	A Daypack– Just to fit the ite
 ms on this list.\n	Lunch – Anything you want\, better to bring too much 
 than not enough.\n	Snacks – Again anything is fine but I would suggest h
 igh energy foods like nuts\, fruit (dried or normal)\, chocolate\, muesli 
 bars etc.\n	At least 2L of Water – If it is a particularly hot you may w
 ant more. Keep in mind we will be out most of the day.\n	Enclosed Shoes 
 – Hiking shoes are great\, Joggers are definitely fine\, Thin/Flat soled
  shoes like Converses or Volleys are imo a poor choice but would be passab
 le. Thongs are absolutely moronic…\n	Sunscreen and Hat – Always use p
 rotection!\n	Swimmers and Towel (Optional)\n
CATEGORIES:Bushwalking
END:VEVENT
END:VCALENDAR