BEGIN:VCALENDAR
VERSION:2.0
PRODID:-//wp-events-plugin.com//7.2.3.1//EN
TZID:Australia/Sydney
X-WR-TIMEZONE:Australia/Sydney
BEGIN:VEVENT
UID:2103@unswoc.org
DTSTART;VALUE=DATE:20170304
DTEND;VALUE=DATE:20170306
DTSTAMP:20170227T052709Z
URL:https://unswoc.org/wordpress/events/beginner-hike-corang-arch-circuit-
 morton-np/
SUMMARY:Beginner Hike: Corang Arch circuit in Morton NP
DESCRIPTION:Tie up those hiking boots and load up that pack\, it's the firs
 t hike of the semester!\n\nWe will take you on an adventure through the ve
 ry wild Morton National Park. This walk is probably my favourite overnigh
 ter on mainland Australia. We will leave early on Saturday\, drive 3h to t
 he start of the walk. Then\, the walk goes through some scrubbby bush\, on
  top of a mountain\, and onto a plateau with beautiful sunset views. We wi
 ll camp on the prairies just below the plateau\, then the next day wander 
 along a gurgling river and if it's hot swim in some pristine cascades. Exp
 ect a late return to Sydney on Sunday night.\n\nDepature: 7 am from UNSW o
 n Saturday\n\nReturn: Late on Sunday\n\nRequired experience: None.\n\nRequ
 ired Gear:\n\n	pack\n	tent\n	sleeping bag + mat\n	food for 2 days\n	water 
 - carry all you need with you (at least 5-6 L)\n	hat + sunscreen\n	rain ja
 cket\n	hiking/running shoes\n	warm jacket\n\nTransport: We need more drive
 rs\, so let me know if you can drive. The plan is to leave from UNSW or th
 ereabouts. Petrol costs will be split between all (~$10 each).\n\nHave a 
 look at the tracknotes if you want more info! http://bushwalkingnsw.com/wa
 lk.php?nid=817\n\nWhen you have successfully registered\, I will add you t
 o a group chat on facebook for us to coordinate transport. If your name on
  fb is different to your account on here please let me know (Fb: Mac Labin
 e-Romain)!!\n\nNOTE: the forecast is not ideal at this stage\, we will mak
 e the call on friday arvo if we will go or not.\n\n&nbsp\;
END:VEVENT
END:VCALENDAR