BEGIN:VCALENDAR
VERSION:2.0
PRODID:-//wp-events-plugin.com//7.2.3.1//EN
TZID:Australia/Sydney
X-WR-TIMEZONE:Australia/Sydney
BEGIN:VEVENT
UID:2749@unswoc.org
DTSTART;TZID=Australia/Sydney:20201010T090000
DTEND;TZID=Australia/Sydney:20201010T140000
DTSTAMP:20201009T044620Z
URL:https://unswoc.org/wordpress/events/beginner-hike-a-saturday-trip-and-
 swim-to-karloo-pools-and-uloola-falls/
SUMMARY:Beginner Hike! A Saturday trip and swim to Karloo Pools and Uloola 
 Falls
DESCRIPTION:Hi Everyone!\n\nDavid and I (Brendan) will be leading a beginne
 r friendly walk to the Royal National Park's Karloo Pools and Uloola Falls
  this Saturday.\nThis trip is beginner friendly with a ~10km round trip. W
 e will depart at 9am\, venture down swim and explore Uloola area before re
 turning in the early afternoon to the station.\n\n[caption id="" align="al
 ignnone" width="318"] Karloo Pools - Photo Wild Swimming Australia[/captio
 n]\n\n=="\nWhen? Saturday 10th Oct at 9am (Heathcote Station)\n\nWhere? Me
 et at 9am at Heathcote Station (Near the RFS and SES HQ on the Eastern sid
 e) to walk the RNP's Karloo and Uloola Walking Track return.\n\nWho?  You!
  Beginner to experienced all are welcome :). Someone who fancies a weekend
  swim in one of Sydney's best bush waterholes!!\n\nWhat to Bring?\n- Runni
 ng/walking shoes\n- 2L water (more if its a hot day!)\n- Swimmers and a to
 wel\n- Lunch\n- Slip\, slop &amp\; slap --&gt\; Bring a hat\, It will be s
 unny :)\n- A warm layer incase you're chilly.\n\nShould be a great morning
  walk! Especially to visit some fantastic waterholes and interesting water
 falls.\n\nMore info at ..... Wild Swimming Australia\n\nPlease remember to
  be COVID safe. Avoid catching public transport or car pooling. DO NOT com
 e on the hike if you have any symptoms\, close contact with cases or pendi
 ng testing (Common sense things)\n\nAny questions message David or myself 
 on FB or contact me on 0427234898.\n\nHappy hiking\,\nBrendan &amp\; David
  :)
CATEGORIES:Bushwalking,Hectic Hiking
END:VEVENT
BEGIN:VTIMEZONE
TZID:Australia/Sydney
X-LIC-LOCATION:Australia/Sydney
BEGIN:DAYLIGHT
DTSTART:20201004T030000
TZOFFSETFROM:+1000
TZOFFSETTO:+1100
TZNAME:AEDT
END:DAYLIGHT
END:VTIMEZONE
END:VCALENDAR