BEGIN:VCALENDAR
VERSION:2.0
PRODID:-//wp-events-plugin.com//7.2.3.1//EN
TZID:Australia/Sydney
X-WR-TIMEZONE:Australia/Sydney
BEGIN:VEVENT
UID:3620@unswoc.org
DTSTART;TZID=Australia/Sydney:20250727T080000
DTEND;TZID=Australia/Sydney:20250727T130000
DTSTAMP:20250714T054931Z
URL:https://unswoc.org/wordpress/events/beginner-friendly-sydney-harbour-k
 ayaking/
SUMMARY:Beginner Friendly  Sydney Harbour Kayaking
DESCRIPTION:G'day Legends\,\n\nI will be running a beginner friendly flatwa
 ter kayaking day trip on Sydney Harbour where you will have the chance to 
 learn a new skill\, explore Sydney Harbour\, and enjoy the sunshine (hopef
 ully). We will paddle for approximately 10km which will be about 2 hours o
 f paddling with a cafe stop at middle head.\n\nWhat to Expect\n\nWe will m
 eet at 8am at the Tramshed to collect our boats and load them onto cars. W
 e can usually fit 2-3 boats per car (with roofracks)\, so\, this trip can 
 accommodate 2-3 people per car with roofracks. As such\, I will be priorit
 ising spaces for people to join to those with roofracks\, before people wi
 thout roofracks.\n\nWe will start paddling from Watson's Bay and head acro
 ss the harbour to middle head where we will stop for a coffee and snack be
 fore paddling back. You can expect this to take about 3 hours all up and s
 o the trip will conclude around noon or 1pm.\n\nWhat to Bring\n\nYou will 
 get wet\, so make sure you have activewear/boardshorts/t-shirts etc.\n\nNO
  COTTON\n\n 	Wet gear (swimmers\, activewear etc.) - this should provide s
 ome sun protection and be comfortable to sit in for an extended period\n\n
  	NO COTTON\n\n\n 	Dry clothes for afterwards - this can be left in the ca
 r while we're paddling (this can have cotton)\n 	Towel for after\n 	Dry ba
 g - to carry valuable and warm clothes for when we arrive at the beach\n 	
 Some warm clothes for when we arrive at the beach (NO COTTON)\n 	What snac
 k did your parents never let you buy on a family outing?\n 	Sunscreen\n 	S
 nacks\n 	Water bottle (with a carabiner or string or something to secure i
 t)\n\nNO COTTON\n\nRegistrations\n\nRegistration will open at 3pm on July 
 17. Please note\, this trip coincides with the Wee Jasper Caving trip\, pl
 ease don't sign up for both\n\nIf we have never paddled together before\, 
 please let me know your paddling experience in the comment box. Please re
 ach out if you have any questions or concerns.\n\nNotes\n\nThis trip may b
 e cancelled/postponed if there is bad weather such as an electrical storm.
  Or it may be moved to a different location if there is large swell. I wil
 l communicate via Facebook messenger.
CATEGORIES:Flat Water Kayaking
LOCATION:https://maps.app.goo.gl/aCHt5BMczRhyNVKQ8
END:VEVENT
BEGIN:VTIMEZONE
TZID:Australia/Sydney
X-LIC-LOCATION:Australia/Sydney
BEGIN:STANDARD
DTSTART:20250406T020000
TZOFFSETFROM:+1100
TZOFFSETTO:+1000
TZNAME:AEST
END:STANDARD
END:VTIMEZONE
END:VCALENDAR