BEGIN:VCALENDAR
VERSION:2.0
PRODID:-//wp-events-plugin.com//7.2.3.1//EN
TZID:Australia/Sydney
X-WR-TIMEZONE:Australia/Sydney
BEGIN:VEVENT
UID:2582@unswoc.org
DTSTART;TZID=Australia/Sydney;VALUE=DATE:20191116
DTEND;TZID=Australia/Sydney;VALUE=DATE:20191117
DTSTAMP:20191112T073158Z
URL:https://unswoc.org/wordpress/events/beginner-friendly-climbing-at-corr
 oboree-walls-saturday/
SUMMARY:Beginner Friendly Climbing at Corroboree Walls? (Saturday)
DESCRIPTION:If you're busy on Sunday but still looking to climb\, you've co
 me to the right place!\nCome join me (Josh)\, Ash and Jeff at Corroboree W
 alls (https://www.thecrag.com/climbing/australia/blue-mountains/corroboree
 -walls)\, a shaded and relatively cool beginner friendly crag in the Blue 
 Mountains. If the bushfire situation escalates\, we will head to a Sydney 
 crag (TBA) instead. Don't sweat it if you're new to outdoor climbing as we
 'll happily teach you the basics.\n\nYou will need to bring:\n\nClimbing g
 ear:\n\n 	Harness*\n 	Climbing Shoes*\n 	Chalk Bag (optional but recommend
 ed)\n 	Helmet*\n 	Carabiner+ATC*\n\nOther:\n\n 	At least 2L of water (use 
 your own judgement on this)\n 	Food and snacks for the day\n 	Sunscreen\n 
 	Personal medicines (epipen\, etc)\n 	Comfortable clothes to climb in\n\n(
 *) - Can be borrowed from the club\n\nIf you've read this far\, go ahead a
 nd chuck your climbing experience\, what gear you need and any questions r
 egarding the trip in the comments down below. Alternatively send me a mess
 age on Facebook (Joshua Yang).\n\nSee you on Saturday!
END:VEVENT
BEGIN:VTIMEZONE
TZID:Australia/Sydney
X-LIC-LOCATION:Australia/Sydney
BEGIN:DAYLIGHT
DTSTART:20191006T030000
TZOFFSETFROM:+1000
TZOFFSETTO:+1100
TZNAME:AEDT
END:DAYLIGHT
END:VTIMEZONE
END:VCALENDAR