BEGIN:VCALENDAR
VERSION:2.0
PRODID:-//wp-events-plugin.com//7.2.3.1//EN
TZID:Australia/Sydney
X-WR-TIMEZONE:Australia/Sydney
BEGIN:VEVENT
UID:853@unswoc.org
DTSTART:20150522T200000Z
DTEND:20150523T010000Z
DTSTAMP:20150518T135847Z
URL:https://unswoc.org/wordpress/events/beginner-friendly-bouldering-lindf
 ield/
SUMMARY:Beginner-Friendly Bouldering at Lindfield
DESCRIPTION:Che and Blair will be bouldering at Lindfield Rocks on Saturday
  morning (23/5/15)\, and you're welcome to join us.\n\nBouldering mats\, s
 upervision\, and guidance will be provided\, the rest is on you. It's goin
 g to be an early start\, and supervision may be limited after 11am (I've g
 ot to get to work).\n\nYou need to bring:\n\n	Adequate amounts of food and
  water for the day\n	Warm clothing\n	Not much else really\, this trip's pr
 etty basic\n\nIt would be good if you could bring:\n\n	Climbing shoes\n	Ch
 alk\n	Any bouldering mats you have access to (the average boulderer's insa
 tiable lust for padded landings cannot be overstated)\n\nLindfield rocks i
 s accessed by walking down the bush track behind the tennis courts at the 
 northeastern corner of Eastern Arterial Road and Tryon Road. There's plent
 y of bouldering\, with a good variety of grades\, so climbers of any abili
 ty level should be able to have a good time.\n\nIt's a 15 minute walk from
  the Lindfield train station\, and we can probably shuttle some people ove
 r depending on arrival times.\n\nBlair: 0422 750 499\n\nChe: 0416 019 085\
 n\n&nbsp\;\n\n&nbsp\;
CATEGORIES:Outdoor Climbing
LOCATION:\, \, 
X-APPLE-STRUCTURED-LOCATION;VALUE=URI;X-ADDRESS=\, ;X-APPLE-RADIUS=100;X-TI
 TLE=:geo:0,0
END:VEVENT
END:VCALENDAR