BEGIN:VCALENDAR
VERSION:2.0
PRODID:-//wp-events-plugin.com//7.2.3.1//EN
TZID:Australia/Sydney
X-WR-TIMEZONE:Australia/Sydney
BEGIN:VEVENT
UID:3784@unswoc.org
DTSTART;TZID=Australia/Sydney:20260419T100000
DTEND;TZID=Australia/Sydney:20260419T150000
DTSTAMP:20260415T104849Z
URL:https://unswoc.org/wordpress/events/beginner-day-hike-minerva-pool/
SUMMARY:[Beginner] Day Hike - Minerva Pool Botanizing
DESCRIPTION:Hey all\, Miriam and I are doing a botany hike down to Minerva 
 Pool. The track itself is very short (2.4km) so there is also the option t
 o backtrack to the Jingga Track (2.4km return)\, time permitting.\n\nIt’
 s a tad early for greenhood orchids\, but with all the recent rain there s
 hould be plenty of fungi\, and with any luck I might be able to find a Lip
 aris reflexa for everyone's amusement (you'll see what I mean if I do...)\
 n\nI'll have a copy of Robinson in case any plants are wanting IDing\, or 
 alternatively\, iNaturalist is very handy to have on your phone.\n\nGettin
 g there: Meet at the Minerva Pool Carpark. This isn't easily public transp
 ort accessible so you'll either need a car or find a lift\; will organise 
 carpooling closer to date.\n\nWhat to bring:\n\n 	2L+ water\n 	Wear clothe
 s and shoes appropriate for bushwalking (enclosed shoes please!)\n 	Sun pr
 otection\n 	Lunch\, snacks.\n 	(optional) a camera\n\nIn your comments ple
 ase tell us: (1) something about your experience doing day hikes and (2) a
 bout your current interest in ecology/plants/nature.
ATTACH;FMTTYPE=image/jpeg:https://unswoc.org/wordpress/wp-content/uploads/
 2026/04/2b9de7d0-404c-4dd0-be30-b9a6f757acd0.jpeg
CATEGORIES:Bushwalking,Hectic Hiking
LOCATION:https://maps.app.goo.gl/qMBy7ZkoXeSGdNhk9
END:VEVENT
BEGIN:VTIMEZONE
TZID:Australia/Sydney
X-LIC-LOCATION:Australia/Sydney
BEGIN:STANDARD
DTSTART:20260405T020000
TZOFFSETFROM:+1100
TZOFFSETTO:+1000
TZNAME:AEST
END:STANDARD
END:VTIMEZONE
END:VCALENDAR