BEGIN:VCALENDAR
VERSION:2.0
PRODID:-//wp-events-plugin.com//7.2.3.1//EN
TZID:Australia/Sydney
X-WR-TIMEZONE:Australia/Sydney
BEGIN:VEVENT
UID:2050@unswoc.org
DTSTART:20160819T220000Z
DTEND:20160821T110000Z
DTSTAMP:20160815T021527Z
URL:https://unswoc.org/wordpress/events/beginner-cycling-revive-cycling-be
 aches-national-parks/
SUMMARY:Beginner Cycling: Revive yourself cycling along beaches and through
  national parks
DESCRIPTION:Hi everybody\,\n\nSam and me are going to run an easy and relax
 ed cycling trip on the central coast next weekend. We will start on Saturd
 ay morning at a reasonable time (tba) to allow for some recovery from the 
 pubgaine\, take the train to gosford and then cycle along nice beaches\,
  maybe even have a swim. We'll camp on a beach camp ground and then head o
 n the next morning towards Newcastle. The whole thing is only 100km\, not
  too hilly and has amazing views\, so it should be fun! If you want to try
  cycle touring\, this is your trip. If you are already a veteran but just 
 want something nice to recover from the pubgaine\, this is also your trip!
 \n\nMessage Sam or me\, if you have any questions! Also\, please comment w
 ith your experience level.\n\nBelow you'll find a packing list.\n\nCheers\
 ,\n\nSteffi\n\n&nbsp\;\n\n\n\nWhat to bring:\n\nCamping equipment:\n\n	War
 m sleeping bag\n	Sleeping mat\n	Tent\n\nCycling equipment:\n\n	Bike with r
 ack and panniers\n-&gt\; you can fix it up at bike club at unsw on Tue 12-
 2 at arc office or Thur 12-2 at the innovation centre and get bike racks a
 nd panniers from the club on gear night\, wednesday all night. People at t
 he bike club can help you mount them. :)\n	Spare tube and tube fix set\n	l
 ights\n	helmet\n\nMisc:\n\n	food for 2 days\, take some snacks for during 
 the day\, e.g. muesli bars\n	water bottle or camel bag so that you can eas
 ily drink on your bike\n	warm clothes\n	swim suit and towel\n	head torch\n
 	stove\n	strong quads and arses from granite\n	good mood\n	money for train
  and beer\n\n&nbsp\;\n\n&nbsp\;
CATEGORIES:Cycle Touring
END:VEVENT
END:VCALENDAR