BEGIN:VCALENDAR
VERSION:2.0
PRODID:-//wp-events-plugin.com//7.2.3.1//EN
TZID:Australia/Sydney
X-WR-TIMEZONE:Australia/Sydney
BEGIN:VEVENT
UID:2040@unswoc.org
DTSTART:20160805T190000Z
DTEND:20160807T070000Z
DTSTAMP:20160726T080549Z
URL:https://unswoc.org/wordpress/events/beginner-cycle-touring/
SUMMARY:Beginner Cycle Touring
DESCRIPTION:Hey Guys\,\n\nI am running a beginner cycle touring trip. I am 
 not entirely sure were we will go yet\, but we can discuss that closer to 
 the date.\n\nThe club has recently acquired 3 sets of pannier racks and 3 
 sets of pannier bags. The plan for the trip will be load up all our campin
 g gear onto the bikes\, and head out for the weekend. We will aim to ride 
 around 100-130km over the whole weekend\, at a fairly leisurely pace.\n\nY
 ou will need to supply your own bike\, which should be in a generally good
  state of repair. Any geared bike will be fine (no fixies)\, but we may be
  riding on some rough roads\, and maybe some dirt roads. I am happy to mee
 t with people next Tuesday night (2nd of August) at the gear cupboard to h
 elp them out with fitting a rack to their bike.\n\nYou should aim to pack 
 as if you were going on an overnight hike. You will need to bring all your
  own food for the weekend\, as well as a spare tyre tube for your bike. I
  will bring tools and a pump\, but hopefully we wont need them.\n\nI am ha
 ppy to take as many people as want to come\, however\, it will be first in
  first severed for the club gear.  If you are interested in this event\, 
 and need  some more information\, please email me (dpvandermaat@gmail.com
 ).\n\n&nbsp\;\n\n\n\n&nbsp\;
END:VEVENT
END:VCALENDAR