BEGIN:VCALENDAR
VERSION:2.0
PRODID:-//wp-events-plugin.com//7.2.3.1//EN
TZID:Australia/Sydney
X-WR-TIMEZONE:Australia/Sydney
BEGIN:VEVENT
UID:2776@unswoc.org
DTSTART;TZID=Australia/Sydney;VALUE=DATE:20201208
DTEND;TZID=Australia/Sydney;VALUE=DATE:20201209
DTSTAMP:20201204T052057Z
URL:https://unswoc.org/wordpress/events/beginner-climbing-trip-tuesday-8th
 -dec/
SUMMARY:Beginner Climbing Trip - Tuesday 8th Dec
DESCRIPTION:Hi friends\,\n\nAva and I (Pat) will be leading a beginner spor
 t climbing trip next Tuesday\, at either Bangor or Elanora Heights (depend
 ing on the weather on what people are feeling up for). No outdoor experien
 ce is required as we'll be setting up topropes but you'll have the opportu
 nity to learn to lead climb if you're interested.\n\nWhat you'll need:\n\n
  	At least 2L water\n 	Lunch and snacks\n 	Jacket\n 	Sunscreen\n 	Helmet *
 \n 	Harness *\n 	Climbing shoes *\n 	Belay device and carabiner *\n\nItems
  with (*) can be borrowed from the gear cupboard (we'll probably arrange t
 o pick up gear in the morning on the way).\n\nIf you're interested leave a
  comment with any climbing experience you have and the gear that you'll ne
 ed to borrow. If you've got any questions\, message Ava Del Tufo or I (Pat
 rick Chambers) on Facebook. See you there!
CATEGORIES:Outdoor Climbing
END:VEVENT
BEGIN:VTIMEZONE
TZID:Australia/Sydney
X-LIC-LOCATION:Australia/Sydney
BEGIN:DAYLIGHT
DTSTART:20201004T030000
TZOFFSETFROM:+1000
TZOFFSETTO:+1100
TZNAME:AEDT
END:DAYLIGHT
END:VTIMEZONE
END:VCALENDAR