BEGIN:VCALENDAR
VERSION:2.0
PRODID:-//wp-events-plugin.com//7.2.3.1//EN
TZID:Australia/Sydney
X-WR-TIMEZONE:Australia/Sydney
BEGIN:VEVENT
UID:3449@unswoc.org
DTSTART;TZID=Australia/Sydney;VALUE=DATE:20240721
DTEND;TZID=Australia/Sydney;VALUE=DATE:20240722
DTSTAMP:20240717T075808Z
URL:https://unswoc.org/wordpress/events/beginner-climbing-trip-bonnet-bay-
 sunday-21-july/
SUMMARY:[FULL] Beginner Climbing Trip - Bonnet Bay - Sunday 21 July
DESCRIPTION:Hello everyone!\nMarcus and Linna will run a beginner climbing 
 trip on Sunday the 21st of July where we will be travelling down to The Sh
 ire to clip some bolts. Only 45 minutes drive from UNSW\, Bonnet Bay has 
 some great easy to intermediate climbs that we can tackle including a chim
 ney and a few cracks!\nWhat’s the plan?\nGet down to Bonnet Bay by train
  (Jannali station) or carpool on Sunday morning\, spend a great day climbi
 ng\, head back to Sydney in the evening.\n\n[caption id="attachment_16818"
  align="aligncenter" width="1024"] Marcus TRS at Bonnet Bay circa Dec 2020
 [/caption]\nWhat do I need to bring?\nClimbing gear:\n\n 	Harness*\n 	Clim
 bing Shoes*\n 	Helmet*\n 	Belay device and locking carabiner*\n 	Chalk Bag
  (optional but recommended)\n\nOther:\n\n 	At least 2L of water\n 	Food a
 nd snacks for the day\n 	Sunscreen\n 	Personal medicines (epipen\, antihi
 stamines\, etc.)\n 	Comfortable shoes for the crag + warm jacket (the appr
 oach is a 30 second walk)\n 	Cash for petrol for your driver or an Opal ca
 rd for the train\n\n* – Can be borrowed from the Gear Cupboard at 5-6pm
  Thursdays\, make sure to reserve gear here\nHow do I sign up?\nIn the co
 mment box: state your climbing grades and experience (indoor &amp\; outdo
 or)\, whether you have a car and where you’ll be driving from. If you ar
 e accepted\, a Messenger group chat will be made so be sure to link your F
 acebook in your website profile and check your message requests.\n\nAny qu
 estions let us know!\n\nCheers\, hope to see ya there :)
ATTACH;FMTTYPE=image/jpeg:https://unswoc.org/wordpress/wp-content/uploads/
 2024/07/DSC_0330-scaled.jpg
CATEGORIES:Climbing,Outdoor Climbing
LOCATION:https://maps.app.goo.gl/qUkyZz8NapBZd3qf8
END:VEVENT
BEGIN:VTIMEZONE
TZID:Australia/Sydney
X-LIC-LOCATION:Australia/Sydney
BEGIN:STANDARD
DTSTART:20240407T020000
TZOFFSETFROM:+1100
TZOFFSETTO:+1000
TZNAME:AEST
END:STANDARD
END:VTIMEZONE
END:VCALENDAR