BEGIN:VCALENDAR
VERSION:2.0
PRODID:-//wp-events-plugin.com//7.2.3.1//EN
TZID:Australia/Sydney
X-WR-TIMEZONE:Australia/Sydney
BEGIN:VEVENT
UID:2885@unswoc.org
DTSTART;TZID=Australia/Sydney;VALUE=DATE:20210313
DTEND;TZID=Australia/Sydney;VALUE=DATE:20210314
DTSTAMP:20210312T000939Z
URL:https://unswoc.org/wordpress/events/beginner-climbing-the-soft-parade/
SUMMARY:** TRIP FULL** Beginner Climbing - The Soft Parade
DESCRIPTION:Nic\, Xab\, and I (Sammy) will lead a beginners climbing/learn 
 to lead trip on Saturday to the Soft Parade (Blue Mountains).\n\nLet us kn
 ow if you are interested in learning to lead or clean routes and we can sh
 ow you where to get started 🙂\n\nBut\, we will be setting up top ropes 
 too so no experience is required\, only enthusiasm to touch rocks!\n\nYou 
 will need to bring:\n\nClimbing gear:\n\n 	Harness*\n 	Climbing Shoes*\n 	
 Helmet*\n 	Belay device and locking carabiner*\n 	Safety sling and locking
  carabiner * (if you want to learn to clean)\n 	Chalk Bag (optional but re
 commended)\n\nOther:\n\n 	At least 2L of water\n 	Food and snacks for the 
 day\n 	Sunscreen\n 	Personal medicines (epipen\, etc.\,)\n 	Comfortable cl
 othes to climb in\n 	Enclosed comfortable shoes for the approach\n 	A head
  torch (just incase we are too psyched to leave before dark...)\n\n(*) –
  Can be borrowed from the gear shed 4-5pm Thursday\, hire is free for club
  trips but remember to bring cash for a deposit!\n\n\n&nbsp\;\n\nIf you’
 re interested leave a comment with any climbing experience you have and i
 f you’d like to learn anything in particular on the trip (leading\, clea
 ning\, etc.\,). Also let us know your favorite species of tree please... 
  If you’ve got any questions\, feel free to message me on Facebook (Samm
 y Millard). See you there!
CATEGORIES:Outdoor Climbing
END:VEVENT
BEGIN:VTIMEZONE
TZID:Australia/Sydney
X-LIC-LOCATION:Australia/Sydney
BEGIN:DAYLIGHT
DTSTART:20201004T030000
TZOFFSETFROM:+1000
TZOFFSETTO:+1100
TZNAME:AEDT
END:DAYLIGHT
END:VTIMEZONE
END:VCALENDAR