BEGIN:VCALENDAR
VERSION:2.0
PRODID:-//wp-events-plugin.com//7.2.3.1//EN
TZID:Australia/Sydney
X-WR-TIMEZONE:Australia/Sydney
BEGIN:VEVENT
UID:2861@unswoc.org
DTSTART;TZID=Australia/Sydney;VALUE=DATE:20210220
DTEND;TZID=Australia/Sydney;VALUE=DATE:20210221
DTSTAMP:20210216T121655Z
URL:https://unswoc.org/wordpress/events/beginner-climbing-new-nowra-or-oth
 er-location-tbd/
SUMMARY:BL Saturday - Beginner Climbing at New Nowra (or other location tbd
 )
DESCRIPTION:Scott and I will be leading a beginner climbing trip to New Now
 ra (or other location tbd). Find all the details here: https://www.thecrag
 .com/en/climbing/australia/nowra/new-nowra-braidwood-road .  You must be 
 approved for Boree Log to attend.\n\nThe plan is to drive from the campgro
 und where we are camping on Saturday night to the crag\, where we will s
 et up top ropes for everyone to climb. No climbing experience is needed. I
 f you´re a competent lead climber and lead belayer\, you´re also welcome
 d. It will be an awesome day out and you will need:\n\n 	Climbing gear: A
  harness*\, a helmet* and locking carabiner* attached to an ATC* (* = club
  will provide it). Optional but recommended chalk bag and climbing shoes.\
 n 	For clothing: Sport clothes. It can get quite hot or quite chilly\, so
  be prepared for both.\n 	For eating: 2 l of water\, food or snacks.\n 	Ot
 her gear: swimmers\, sunscreen\, medicines if you need them (asthma puffe
 r\, etc).\n\nNumber of attendees will depend on the number of cars availab
 le. Please mention if you have a car.
END:VEVENT
BEGIN:VTIMEZONE
TZID:Australia/Sydney
X-LIC-LOCATION:Australia/Sydney
BEGIN:DAYLIGHT
DTSTART:20201004T030000
TZOFFSETFROM:+1000
TZOFFSETTO:+1100
TZNAME:AEDT
END:DAYLIGHT
END:VTIMEZONE
END:VCALENDAR