BEGIN:VCALENDAR
VERSION:2.0
PRODID:-//wp-events-plugin.com//7.2.3.1//EN
TZID:Australia/Sydney
X-WR-TIMEZONE:Australia/Sydney
BEGIN:VEVENT
UID:3022@unswoc.org
DTSTART;TZID=Australia/Sydney;VALUE=DATE:20220605
DTEND;TZID=Australia/Sydney;VALUE=DATE:20220606
DTSTAMP:20220601T103212Z
URL:https://unswoc.org/wordpress/events/beginner-climbing-medlow-bath/
SUMMARY:Beginner Climbing - Medlow Bath
DESCRIPTION:***[TRIP FULL]***\n\n&nbsp\;\n\nHello Folks!\n\nOn Sunday Cindy
 \, Zee\, Peta\, and I (Sammy) will be running a beginner sport climbing tr
 ip to Medlow Bath in the Blue Mountains. It will be chill.\n\n\n\nThe plan
  is to be at Medlow bath at 10am on Sunday and climb till sunset\, where w
 e will set up top ropes for everyone to climb. No climbing experience is n
 eeded. If you´re a competent lead climber and lead belayer\, but just wan
 t more outdoor experience\, you´re also welcomed. You will need:\n\n 	Cli
 mbing gear: A harness\, helmet\, locking carabiner\, belay device/ATC\, cl
 imbing shoes\, chalk bag\n\n 	all available at the gear shed with a deposi
 t\, no rental fee\n 	if you have your own gear please bring it\n\n\n 	For 
 clothing: Wear clothes you are comfortable climbing in (i.e. sporty) as we
 ll as extra layers (i.e. jumpers\, coats\, gloves\, hats) as it is cold in
  the mountains at the moment!\n 	For sustenance: 2 L of water\, lunch\, an
 d snacks.\n 	Other gear: sunscreen\, head torch\, medicines if you need th
 em (asthma puffer\, etc).\n\nLeave a comment to let us know your experienc
 e\, whether you have a car with spots\, and tell us the best place you've 
 taken a bath.\n\n\n\n 
CATEGORIES:Climbing,Outdoor Climbing
END:VEVENT
BEGIN:VTIMEZONE
TZID:Australia/Sydney
X-LIC-LOCATION:Australia/Sydney
BEGIN:STANDARD
DTSTART:20220403T020000
TZOFFSETFROM:+1100
TZOFFSETTO:+1000
TZNAME:AEST
END:STANDARD
END:VTIMEZONE
END:VCALENDAR