BEGIN:VCALENDAR
VERSION:2.0
PRODID:-//wp-events-plugin.com//7.2.3.1//EN
TZID:Australia/Sydney
X-WR-TIMEZONE:Australia/Sydney
BEGIN:VEVENT
UID:2043@unswoc.org
DTSTART:20160806T230000Z
DTEND:20160807T060000Z
DTSTAMP:20160804T074117Z
URL:https://unswoc.org/wordpress/events/beginner-climbing-feed-blair-cake/
SUMMARY:Beginner Climbing / Feed Blair and Minus cake
DESCRIPTION:Hey Team\,\n\nBlair and I will be teaching a bunch of you to cl
 imb. If you're well behaved and bring us cake\, I might even teach you how
  to lead too!\n\nMount Alexandra is about an hour and a half from UNSW\, m
 aking it a convenient day trip. We have limited car seats going from Sydne
 y with Blair\, so organise lifts with him on the UNSWOC Facebook page\, wh
 ereas I will be coming via Bowral\, so may be able to give people lifts fr
 om the train station (organise on the Facebook page\, limited seats availa
 ble). Otherwise you can just drive and meet us down there.\n\nWe have shoe
 s\, ropes\, harnesses belay devices and carabiners\, so this is a good way
  to get into climbing outdoors if you haven't done it before and have no g
 ear of your own.\n\nBring food and at least 2L of water.\n\nEspecially cak
 e.\n\nIt will be cold (forecast is for 4-8 degrees). If you get hypothermi
 a because you didn't bring a warm jacket or downie I will personally fine
  you at Boree Log and others will laugh at your stupidity!\n\nIf you have 
 any questions\, ask on the Facebook page (note that there is a fee of one 
 piece of cake per question\, two if they have already been answered here).
 \n\nHere is where the carpark is:\n\nhttps://www.google.com.au/maps/place/
 34%C2%B026'34.2%22S+150%C2%B027'13.4%22E/@-34.4428259\,150.4531708\,237m/d
 ata=!3m2!1e3!4b1!4m5!3m4!1s0x0:0x0!8m2!3d-34.442827!4d150.453718\n\n&nbsp\
 ;\n\n&nbsp\;\n\n&nbsp\;\n\n&nbsp\;\n\n&nbsp\;
CATEGORIES:Outdoor Climbing
END:VEVENT
END:VCALENDAR