BEGIN:VCALENDAR
VERSION:2.0
PRODID:-//wp-events-plugin.com//7.2.3.1//EN
TZID:Australia/Sydney
X-WR-TIMEZONE:Australia/Sydney
BEGIN:VEVENT
UID:2591@unswoc.org
DTSTART;TZID=Australia/Sydney;VALUE=DATE:20191207
DTEND;TZID=Australia/Sydney;VALUE=DATE:20191208
DTSTAMP:20191204T210018Z
URL:https://unswoc.org/wordpress/events/beginner-climbing-dural/
SUMMARY:Beginner Climbing - Dural
DESCRIPTION:\n\n\n\n\n\n\n\n\n\n\n\n\nHey everyone!\n\n\nHamish and I (Nic)
  will be leading a beginner-friendly trip to Dural in North Sydney. This i
 s a lovely crag in a peaceful bush setting\, with a short and relatively f
 lat walk in - perfect beginner and intermediate climbers! 😊\n\n\n\n\n\n
 \n\n\n\n\n\nNo climbing experience is required\, but you will need:\n\n 	C
 limbing gear: A harness*\, helmet*\, climbing shoes* and chalk bag (* = c
 ould be borrowed from the club).\n 	For clothing: Sport clothes. It can g
 et quite hot or quite chilly\, so be prepared for both.\n 	For sustenance:
  2L of water\, food or snacks\, chocolate for trip leaders 😉\n 	Other
  gear: Sunscreen\, medicines if you need them (asthma puffer\, etc).\n\nI
 f you have any questions\, comments\, concerns\, death threats\, or dead b
 udgerigars\, message Hamish Prosser or myself (Nicolas Di Campli) on Faceb
 ook. Write down what gear you need\, your experience\, and whether you w
 ant to learn to lead climb!\n\n&nbsp\;\n\nGet stoked\, it should be a fun 
 day!\n\n\n\n\n\n\n
CATEGORIES:Outdoor Climbing
END:VEVENT
BEGIN:VTIMEZONE
TZID:Australia/Sydney
X-LIC-LOCATION:Australia/Sydney
BEGIN:DAYLIGHT
DTSTART:20191006T030000
TZOFFSETFROM:+1000
TZOFFSETTO:+1100
TZNAME:AEDT
END:DAYLIGHT
END:VTIMEZONE
END:VCALENDAR