BEGIN:VCALENDAR
VERSION:2.0
PRODID:-//wp-events-plugin.com//7.2.3.1//EN
TZID:Australia/Sydney
X-WR-TIMEZONE:Australia/Sydney
BEGIN:VEVENT
UID:2622@unswoc.org
DTSTART;TZID=Australia/Sydney;VALUE=DATE:20200307
DTEND;TZID=Australia/Sydney;VALUE=DATE:20200308
DTSTAMP:20200306T120437Z
URL:https://unswoc.org/wordpress/events/beginner-climbing-dural-2/
SUMMARY:Beginner Climbing - Dural
DESCRIPTION:\n\n\n\nHey everyone!\n\n\nPat and I (Nic) will hopefully be le
 ading a beginner-friendly trip to Dural in North Sydney. This is a lovely 
 crag in a peaceful bush setting\, with a short and relatively flat walk in
  - perfect beginner and intermediate climbers! 😊\n\n\n\n\n\n\n\n\n\n\n\
 nNo climbing experience is required\, but you will need:\n\n 	Climbing gea
 r: A harness*\, helmet*\, climbing shoes* and chalk bag (* = could be bor
 rowed from the club).\n 	For clothing: Sport clothes. It can get quite ho
 t or quite chilly\, so be prepared for both.\n 	For sustenance: 2L of wat
 er\, food or snacks\, chocolate for trip leaders 😉\n 	Other gear: Sun
 screen\, medicines if you need them (asthma puffer\, etc).\n\nIf you have 
 any questions\, comments\, concerns\, death threats\, or dead budgerigars\
 , message Patrick Chambers or myself (Nicolas Di Campli) on Facebook. Writ
 e down what gear you need\, your experience\, and whether you want to le
 arn to lead climb!\n\n&nbsp\;\n\nGet stoked\, it should be a fun day (if i
 t doesn't rain)!\n\n\n\n\n
END:VEVENT
BEGIN:VTIMEZONE
TZID:Australia/Sydney
X-LIC-LOCATION:Australia/Sydney
BEGIN:DAYLIGHT
DTSTART:20191006T030000
TZOFFSETFROM:+1000
TZOFFSETTO:+1100
TZNAME:AEDT
END:DAYLIGHT
END:VTIMEZONE
END:VCALENDAR