BEGIN:VCALENDAR
VERSION:2.0
PRODID:-//wp-events-plugin.com//7.2.3.1//EN
TZID:Australia/Sydney
X-WR-TIMEZONE:Australia/Sydney
BEGIN:VEVENT
UID:2870@unswoc.org
DTSTART;TZID=Australia/Sydney;VALUE=DATE:20210307
DTEND;TZID=Australia/Sydney;VALUE=DATE:20210308
DTSTAMP:20210303T211926Z
URL:https://unswoc.org/wordpress/events/beginner-climbing-dam-cliffs/
SUMMARY:Beginner Climbing - Dam Cliffs -TRIP FULL-
DESCRIPTION:Pat\, Liam\, and I will lead be leading a post mardi gras climb
 ing trip on Sunday to Dam cliffs. Don't worry we won't leave too early....
 ..\n\nI hope you all get some sleep :)\, also bring your hammocks if you'v
 e got them.\n\nThe climbs range from beginner to intermediate\, to get the
  full value it would be best if you've done some climbing before\, but don
 't worry we all start somewhere!\n\nBring swimmers and towels for the Deep
 water soloing for those who are keen. Also\, wear your most colorful cloth
 ing or even better come in what you fell asleep in.\n\nYou will need:\n\n 
 	*Helmet\n 	*Harness\n 	*Belay device + Locking Carabiner\n 	*Climbing Sho
 es\n 	Food + water (at least 1.5L!!)\n 	Backpack to carry the above\n 	clo
 thing appropriate for the weather\n 	sunscreen\n 	petrol money for your dr
 iver\n 	Towel\n 	good vibes\n\n*These items can be borrowed from the gear 
 shed from 4 pm to 5 pm every Thursday.\n\nTell me your best joke and your 
 level of climbing experience in the comments.\n\n&nbsp\;
CATEGORIES:Climbing,Outdoor Climbing
END:VEVENT
BEGIN:VTIMEZONE
TZID:Australia/Sydney
X-LIC-LOCATION:Australia/Sydney
BEGIN:DAYLIGHT
DTSTART:20201004T030000
TZOFFSETFROM:+1000
TZOFFSETTO:+1100
TZNAME:AEDT
END:DAYLIGHT
END:VTIMEZONE
END:VCALENDAR