BEGIN:VCALENDAR
VERSION:2.0
PRODID:-//wp-events-plugin.com//7.2.3.1//EN
TZID:Australia/Sydney
X-WR-TIMEZONE:Australia/Sydney
BEGIN:VEVENT
UID:3248@unswoc.org
DTSTART;TZID=Australia/Sydney;VALUE=DATE:20230423
DTEND;TZID=Australia/Sydney;VALUE=DATE:20230424
DTSTAMP:20230426T052139Z
URL:https://unswoc.org/wordpress/events/beginner-climbing-bangor-west/
SUMMARY:*FULL* Beginner Climbing @ Bangor West
DESCRIPTION:***TRIP CANCELLED: This trip has been cancelled due to poor wea
 ther\, another trip will be planned for the Term 1 break***\n\nHey everyon
 e!\n\nRebekah and I will be heading to Bangor West\, about 40 minutes driv
 e south west of UNSW. There are some great climbs around Grade 14-21 and w
 e can take around 8 people :) This is a good opportunity get started with 
 outdoor climbing\, no previous experience is required. We'll teach you eve
 rything you need to know on the day!\n\nNote: The trip will go ahead depen
 ding on the weather\, we'll make a call closer to the date.\n\n[caption id
 ="attachment_14824" align="aligncenter" width="798"] William at Sail Away 
 Wall[/caption]\n\nPlease bring the following:\n\n 	Harness*\n 	Helmet*\n 	
 Climbing shoes*\n 	Belay device + locking carabiner* (e.g. ATC\, GriGri)\n
  	Safety sling + locking carabiner* (if you want to learn to clean a route
 )\n 	Chalk\, if you have*\n\n*Gear can be borrowed at the Gear Cupboard at
  UNSW during Gear Night (usually Thursday evening)\, check Facebook for th
 e latest details. You don't need to pay for rental\, but bring cash for a 
 deposit\n\nAnd don’t forget:\n\n 	Sunscreen/hat\n 	2L water (minimum!)\n
  	Food and snacks for the day\n 	Sporty clothes and comfy shoes\n 	Warm ju
 mper\n 	Daypack to fit all of the above inside\n\nPlease include in the co
 mments: your favourite sunset spot\, and if you're able to drive\, how man
 y spots you have and where you are driving from (to help us sort out carpo
 oling)\n\nIf you have any questions\, feel free to message us on Facebook.
 \n\nHope to see you guys there :)
CATEGORIES:Climbing,Outdoor Climbing
END:VEVENT
BEGIN:VTIMEZONE
TZID:Australia/Sydney
X-LIC-LOCATION:Australia/Sydney
BEGIN:STANDARD
DTSTART:20230402T020000
TZOFFSETFROM:+1100
TZOFFSETTO:+1000
TZNAME:AEST
END:STANDARD
END:VTIMEZONE
END:VCALENDAR