BEGIN:VCALENDAR
VERSION:2.0
PRODID:-//wp-events-plugin.com//7.2.3.1//EN
TZID:Australia/Sydney
X-WR-TIMEZONE:Australia/Sydney
BEGIN:VEVENT
UID:2120@unswoc.org
DTSTART;VALUE=DATE:20170319
DTEND;VALUE=DATE:20170320
DTSTAMP:20170313T040852Z
URL:https://unswoc.org/wordpress/events/beginner-climbing-at-mt-york-boree
 -log-sunday/
SUMMARY:Beginner Climbing at Mt York - Boree Log Sunday
DESCRIPTION:Abi\, Sam\, Elliott and myself will be holding a Sunday climbin
 g session at Mt York/Barden's Lookout.\n\nThis is a beginner friendly trip
  and we are there to show you the ropes! In the comment section when regis
 tering for this trip\, please include your climbing experience (again\, no
 ne is fine!)\n\nAll the climbing specific gear will be provided by the cl
 ub (if you do have your own\, please let us know that too\, so we may be a
 ble to accommodate more people!)\n\nPlease bring the following\n\n	comfort
 able clothes to climbing (stretchy and flexible is best. Try to avoid very
  loose clothing that can get caught)\n	Strudy walking shoes\n	Lunch\n	2L w
 ater (at least)\n	Sunscreen/sunnies\n	Snacks for your leaders are always a
 ppreciated\n\nIf you have the following\, bring them as well. If you don't
 \, we'll sort you out on the day:\n\n	Helmet\n	Harness\n	ATC\n	Climbing sh
 oes\n	Chalk bag and chalk\n	Locking biners\n\nIf you are already an experi
 enced climber\, maybe consider another trip and leave this trip for beginn
 ers\, or let us know (:\n\nNB: You must be signed up to the Boree Log main
  event to join this trip!
CATEGORIES:Boree Log,Outdoor Climbing
END:VEVENT
END:VCALENDAR