BEGIN:VCALENDAR
VERSION:2.0
PRODID:-//wp-events-plugin.com//7.2.3.1//EN
TZID:Australia/Sydney
X-WR-TIMEZONE:Australia/Sydney
BEGIN:VEVENT
UID:2138@unswoc.org
DTSTART;VALUE=DATE:20170402
DTEND;VALUE=DATE:20170403
DTSTAMP:20170330T120627Z
URL:https://unswoc.org/wordpress/events/beginner-climbing-at-mt-york-boree
 -log-sunday-2/
SUMMARY:BEGINNER CLIMBING AT MT YORK – BOREE LOG SUNDAY
DESCRIPTION:Abi\, Sam\, Elliott and myself will be holding a Sunday climbin
 g session at Mt York/Barden’s Lookout.\n\nThis is a beginner friendly tr
 ip and we are there to show you the ropes! In the comment section when reg
 istering for this trip\, please include your climbing experience (again\, 
 none is fine!)\n\nAll the climbing specific gear will be provided by the 
 club (if you do have your own\, please let us know that too\, so we may be
  able to accommodate more people!)\n\nPlease bring the following\n\n	comfo
 rtable clothes to climbing (stretchy and flexible is best. Try to avoid ve
 ry loose clothing that can get caught)\n	Strudy walking shoes\n	Lunch\n	2L
  water (at least)\n	Sunscreen/sunnies\n	Snacks for your leaders are always
  appreciated\n\nIf you have the following\, bring them as well. If you don
 ’t\, we’ll sort you out on the day:\n\n	Helmet\n	Harness\n	ATC\n	Climb
 ing shoes\n	Chalk bag and chalk\n	Locking biners\n\nIf you are already an 
 experienced climber\, maybe consider another trip and leave this trip for 
 beginners\, or let us know (:\n\nNB: You must be signed up to the Boree Lo
 g main event to join this trip!
CATEGORIES:Boree Log,Outdoor Climbing
END:VEVENT
END:VCALENDAR