BEGIN:VCALENDAR
VERSION:2.0
PRODID:-//wp-events-plugin.com//7.2.3.1//EN
TZID:Australia/Sydney
X-WR-TIMEZONE:Australia/Sydney
BEGIN:VEVENT
UID:3184@unswoc.org
DTSTART;TZID=Australia/Sydney;VALUE=DATE:20230218
DTEND;TZID=Australia/Sydney;VALUE=DATE:20230219
DTSTAMP:20230215T123739Z
URL:https://unswoc.org/wordpress/events/beginner-climbing-at-medlow-bath/
SUMMARY:[FULL] Beginner climbing at Medlow Bath
DESCRIPTION:**TRIP FULL**\n\nThere was a lot of demand and we can only take
  a small number of people on each trip. If you didnt get on this trip keep
  trying.\n\n&nbsp\;\n\n&nbsp\;\n\nHello gorgeous people! Gabe and myself (
 Francois) are running a beginner friendly trip to Medlow Bath this Saturda
 y (18th) 😍\n\nThis is one of the first climbing trips of the Uni year s
 o we will be taking extra time and care to make sure you're learning as mu
 ch as possible. No previous experience is required\, you have to learn som
 ehow! So if you want to learn how to (safely) scale rocks outdoors then no
 w is your chance! We would like to take a few experienced people too\, so 
 if you know how to lead climb make sure you mention it.\n\nYou’ll need t
 o bring/borrow this gear to come along:\n\n 	Harness\n 	Helmet\n 	ATC + ca
 rabiner\n 	Climbing shoes\n\nCome find me at the gear cupboard tomorrow (T
 hursday) from 5:30pm is you need to borrow any of the gear\n\nYou’ll als
 o need to bring: minimum 2L water\, lunch\, snacks to share 😉\, sunsc
 reen and comfortable shoes to hike in.\n\nIn the comments let us know abou
 t any climbing experience you have\, any gear you would need to borrow\, h
 ow many spare seats you have if you’ve got a car\, and your favourite ac
 tivity to do in the city (just so i know you've read everything)\n\nIf you
 ’ve got any questions or concerns feel free to message Gabe or myself on
  Messenger.\nGet Keen!\n
CATEGORIES:Climbing,Outdoor Climbing
END:VEVENT
BEGIN:VTIMEZONE
TZID:Australia/Sydney
X-LIC-LOCATION:Australia/Sydney
BEGIN:DAYLIGHT
DTSTART:20221002T030000
TZOFFSETFROM:+1000
TZOFFSETTO:+1100
TZNAME:AEDT
END:DAYLIGHT
END:VTIMEZONE
END:VCALENDAR