BEGIN:VCALENDAR
VERSION:2.0
PRODID:-//wp-events-plugin.com//7.2.3.1//EN
TZID:Australia/Sydney
X-WR-TIMEZONE:Australia/Sydney
BEGIN:VEVENT
UID:2599@unswoc.org
DTSTART;TZID=Australia/Sydney;VALUE=DATE:20200223
DTEND;TZID=Australia/Sydney;VALUE=DATE:20200224
DTSTAMP:20200219T111438Z
URL:https://unswoc.org/wordpress/events/beginner-climbing-at-bangor-west/
SUMMARY:Beginner Climbing at Bangor West (FULL)
DESCRIPTION:To kick off 2020\, Brendon\, Scott and I will be running a begi
 nners trip to Bangor West on Sunday\, an easily accessed local crag with 
 lots of bolts and a close proximity of routes at mild grades. Don’t swea
 t it if you’re new to outdoor climbing as we’ll happily teach you the 
 basics.\n\nYou will need to bring:\n\nClimbing gear:\n\n 	Harness*\n 	Clim
 bing Shoes*\n 	Chalk Bag (optional but recommended)\n 	Helmet*\n 	Carabine
 r+ATC*\n\nOther:\n\n 	At least 2L of water (use your own judgement on this
 )\n 	Food and snacks for the day\n 	Sunscreen\n 	Personal medicines (epipe
 n\, etc)\n 	Comfortable clothes to climb in\n\n(*) – Can be borrowed fro
 m the club\n\nBeginners and people with cars will be given preference.\n\n
 If you’ve read this far\, go ahead and chuck your climbing experience\, 
 what gear you need and any questions regarding the trip in the comments do
 wn below. Alternatively send me a message on Facebook (Joshua Yang).\n\nSe
 e you on Sunday!
END:VEVENT
BEGIN:VTIMEZONE
TZID:Australia/Sydney
X-LIC-LOCATION:Australia/Sydney
BEGIN:DAYLIGHT
DTSTART:20191006T030000
TZOFFSETFROM:+1000
TZOFFSETTO:+1100
TZNAME:AEDT
END:DAYLIGHT
END:VTIMEZONE
END:VCALENDAR