BEGIN:VCALENDAR
VERSION:2.0
PRODID:-//wp-events-plugin.com//7.2.3.1//EN
TZID:Australia/Sydney
X-WR-TIMEZONE:Australia/Sydney
BEGIN:VEVENT
UID:495@unswoc.org
DTSTART:20140712T230000Z
DTEND:20140713T050000Z
DTSTAMP:20140709T150332Z
URL:https://unswoc.org/wordpress/events/beginner-climbing-and-bouldering/
SUMMARY:Beginner Climbing and Bouldering
DESCRIPTION:Hey Y'all!\n\nAlec Deverall and I will be running a beginner bo
 uldering trip to Lindfield Rocks on Sunday!\n\nEasy to get to\, just catch
  the train to Lindfield Station and walk (if you're there at 9:45 I'll eve
 n pick you up on the way through\, just message me on FaceBook!)\n\nBring 
 climbing shoes if you have them\, a harness if you want to try the high st
 uff\, some lunch and some power!\n\n&nbsp\;\n\nPlease let me know on FaceB
 ook if you don't have climbing shoes or gear and I will try to organise so
 me for you.
CATEGORIES:Outdoor Climbing
LOCATION:\, \, 
X-APPLE-STRUCTURED-LOCATION;VALUE=URI;X-ADDRESS=\, ;X-APPLE-RADIUS=100;X-TI
 TLE=:geo:0,0
END:VEVENT
END:VCALENDAR