BEGIN:VCALENDAR
VERSION:2.0
PRODID:-//wp-events-plugin.com//7.2.3.1//EN
TZID:Australia/Sydney
X-WR-TIMEZONE:Australia/Sydney
BEGIN:VEVENT
UID:389@unswoc.org
DTSTART:20140307T220000Z
DTEND:20140308T060000Z
DTSTAMP:20140304T125638Z
URL:https://unswoc.org/wordpress/events/beginner-climbing-2/
SUMMARY:Beginner Climbing
DESCRIPTION:Hey guys.\n\nI'm planning to run a beginner climbing day this s
 aturday\, catering to new people that joined the club over o-week / the BB
 Q.\n\nThe plan is to head to Bangor\, a small crag down in sutherland. I a
 m planning to cap the numbers at 20 for safety/overcrowding reasons. I hav
 e a car so I can give 4 other people a lift. I will need some more drivers
  and another couple of experienced climber to help me out.\n\nThe club wil
 l provide harnesses and ropes\, but if you have your own\, feel free to br
 ing them :).\n\nIf transport becomes an issue for this trip\, I will chang
 e to location to somewhere more public transport friendly. I will confirm 
 details on Friday evening\, but I am planning to leave from uni at about 9
 am.\n\nCheers\,
ATTACH;FMTTYPE=image/jpeg:https://unswoc.org/wordpress/wp-content/uploads/
 2014/03/IMG_8846.jpg
CATEGORIES:Outdoor Climbing
LOCATION:\, \, 
X-APPLE-STRUCTURED-LOCATION;VALUE=URI;X-ADDRESS=\, ;X-APPLE-RADIUS=100;X-TI
 TLE=:geo:0,0
END:VEVENT
END:VCALENDAR