BEGIN:VCALENDAR
VERSION:2.0
PRODID:-//wp-events-plugin.com//7.2.3.1//EN
TZID:Australia/Sydney
X-WR-TIMEZONE:Australia/Sydney
BEGIN:VEVENT
UID:3407@unswoc.org
DTSTART;TZID=Australia/Sydney:20240329T083000
DTEND;TZID=Australia/Sydney:20240329T170000
DTSTAMP:20240324T103523Z
URL:https://unswoc.org/wordpress/events/beginner-canyoning-yileen/
SUMMARY:(FULL) Beginner Canyoning - YILEEN
DESCRIPTION:Join Alfie\, Emily\, Jayden and I (Amelia) on this beginner fri
 endly canyoning trip through Yileen Canyon.\n\nIt will be an all day event
 \, with some abseils (including a 50m abseil!)\, scrambling (down climbing
 ) and perhaps a jump dependent on water levels.\n\nWe will arrange car poo
 ling (please mention in comment if you have a car and how many people you 
 can take) and will meet at 8:30 am at the Mt Wilson turnoff on Bells Line 
 of Road (south side) (-33.546180\, 150.336442). Please be on time! We will
  leave a car at Pierces Pass for the car shuffle at the end. Please read t
 he canyon track notes here. \n\n[caption id="attachment_16435" align="ali
 gnnone" width="225"] https://ozultimate.com/canyoning/reports/2012/2012012
 9_yileen/photos.htm[/caption]\n\n&nbsp\;\n\nGEAR:\n\nPlease note that this
  is a long day\, with very few bailout options. Double\, triple check you 
 have all of the items on this list BEFORE leaving Sydney.\n\nCan be borrow
 ed from the gear cupboard if you don't have your own (see Facebook for gea
 r cupboard opening time - you must go get this stuff yourself and don't fo
 rget your cash deposit!):\n\n 	Dry bag\n 	Helmet\n 	Harness\n 	Descender (
 figure 8)\n 	Safety Sling\n 	2 x locking carabiners\n 	3-5mm wetsuit\n 	Em
 ergency blanket (can be purchased from the club for $5 or from any outdoor
  store)\n\nWhat you need to supply:\n\n 	Enclosed grippy shoes (these will
  get wet and muddy)\n 	Wool or neoprene socks (no cotton)\n 	Shorts (to go
  over and protect your wetsuit)\n 	Rain/spray jacket\n 	Headtorch\n 	Therm
 als (no cotton)\n 	Warm clothes\n 	At least 2L of water\n 	Food and snacks
  for the day\n 	Sunscreen + hat\n 	Personal medication (e.g. epipen\, asth
 ma puffer)\n 	(Optional) Gloves\n\n&nbsp\;\n\n 	Backpack to fit all of the
  above (will get wet)\n\n&nbsp\;\n\nIn your sign up comment please include
  your abseiling/canyoning experience\, if you have a car (and how many peo
 ple you can take) and the name of the valley this canyon is in (just so we
  know you've read all the information). HINT: use the canyon track notes l
 ink included above ^^\n\nIt will be first in first served for getting on t
 his trip\, and you will be rejected if you miss any of the required inform
 ation in your sign up comment.\n\n&nbsp\;\n\nThanks Oliver for trip templa
 te :)
LOCATION:https://www.google.com/maps/place/-33.546276,150.336546/data=!4m6!
 3m5!1s0!7e2!8m2!3d-33.5462765!4d150.3365456?utm_source=mstt_1&entry=gps&g_
 ep=CAESCjExLjExNi4xMDEYACDXggMqJCw5NDIxMDgzNiw0NzA3NTkxNSw0NzA4NzExMiw0NzA
 4NDM5M0ICQVU%3D
END:VEVENT
BEGIN:VTIMEZONE
TZID:Australia/Sydney
X-LIC-LOCATION:Australia/Sydney
BEGIN:DAYLIGHT
DTSTART:20231001T030000
TZOFFSETFROM:+1000
TZOFFSETTO:+1100
TZNAME:AEDT
END:DAYLIGHT
END:VTIMEZONE
END:VCALENDAR