BEGIN:VCALENDAR
VERSION:2.0
PRODID:-//wp-events-plugin.com//7.2.3.1//EN
TZID:Australia/Sydney
X-WR-TIMEZONE:Australia/Sydney
BEGIN:VEVENT
UID:3698@unswoc.org
DTSTART;TZID=Australia/Sydney:20251026T093000
DTEND;TZID=Australia/Sydney:20251026T160000
DTSTAMP:20251021T080133Z
URL:https://unswoc.org/wordpress/events/beginner-canyon/
SUMMARY:[FULL] Beginner Canyon!!
DESCRIPTION:Are you someone who wasted there entire Boree Log at a crag??\n
 Or even worse a hung over walk through the bush...\n\nWell you have the po
 wer to rectify that by coming down a canyon with Leo and I this Sunday!\n\
 nWe're going down Yileen which in my (very humble) opinion has got it all.
 \n\nGigantic 50m abseil ✅️\n\nSuper easy walk in and out ✅️\n\nVie
 ws pretty enough to make me say WOW... Guaranteed✅️✅️\n\n&nbsp\;\n
 \nNow for the important stuff\, so read up.\n\nCanyoning is a bit more int
 ensive than your normal hike so you will need some to pick up some special
 ist gear at the gear cupboard This Thursday. If your missing anything let 
 me know before Saturday night and I can fix you up. Otherwise you might be
  staying at home\n\n&nbsp\;\n\nStuff you can borrow from the Gear cupboard
 :\n\n 	Canyoning harness\n 	Helmet\n 	Wetsuit\n 	2x Locking carabiners\n 	
 1x Figure 8 descender\n 	1x Safety sling\n 	Drybag/keg\n\n&nbsp\;\n\nOther
  gear you must bring:\n\n 	Backpack that can fit ALL your gear and that ca
 n get wet (30L+)\n 	Emergency blanket – (can buy from Gear Cupboard for 
 $5 or from chemists\, shops\, etc)\n 	Enclosed shoes with good grip\, suit
 able for water and bushwalking\n 	Thermals and raincoat\n 	Swimmers for un
 der wetsuit!!!\n 	2L of water\n 	Lunch\nPlease note the Crayfish Café clo
 sed down mid last year so you Must bring your own\n\n 	Snacks to share wi
 th meee 😋\n 	Medication (asthma puffer\, Epipen etc)\n 	Headtorch + spa
 re batteries\n 	Dry clothes and a towel for the drive back home\n\nIf your
  missing any of these items let me know I have spares of everything at my 
 house NOT at the top of the canyon. So just ask.\n\nIn the comment tell me
  you about your abilitys in abseiling\, swiming\, being a cool person to t
 alk to and your excuse for not canyoning on boree.
ATTACH;FMTTYPE=image/jpeg:https://unswoc.org/wordpress/wp-content/uploads/
 2025/10/20250826_135530-scaled.jpg
CATEGORIES:Canyoning
LOCATION:https://maps.app.goo.gl/RhrTnRoZWQp2zFQk8
END:VEVENT
BEGIN:VTIMEZONE
TZID:Australia/Sydney
X-LIC-LOCATION:Australia/Sydney
BEGIN:DAYLIGHT
DTSTART:20251005T030000
TZOFFSETFROM:+1000
TZOFFSETTO:+1100
TZNAME:AEDT
END:DAYLIGHT
END:VTIMEZONE
END:VCALENDAR