BEGIN:VCALENDAR
VERSION:2.0
PRODID:-//wp-events-plugin.com//7.2.3.1//EN
TZID:Australia/Sydney
X-WR-TIMEZONE:Australia/Sydney
BEGIN:VEVENT
UID:3181@unswoc.org
DTSTART;TZID=Australia/Sydney;VALUE=DATE:20230219
DTEND;TZID=Australia/Sydney;VALUE=DATE:20230220
DTSTAMP:20230216T195755Z
URL:https://unswoc.org/wordpress/events/beginner-canyon-water-dragon/
SUMMARY:[FULL] Beginner Canyon - Water Dragon
DESCRIPTION:Hey everyone\, welcome to the start of term! Instead of thinkin
 g about classes\, why don't you come do one of the coolest trips the club 
 runs (quite literally)!! Milly and I (Daniel) are leading a beginner canyo
 ning trip through Water Dragon canyon on Sunday the 19th. No experience is
  required\, but there will be a long swim down the Wollongambe river so yo
 u must be a competent swimmer.\n\n&nbsp\;\n\n\n\n(Photo of the canyon by D
 avid Noble)\n\n&nbsp\;\n\nWhat to Bring: (Gear shed is open every Thursday
 \, check FB for times)\n\n 	At least 2L water\n 	Food: lunch\, snacks.\n 	
 Board shorts (to wear over wetsuit)\n 	Backpack\n 	Dry bag (can be borrowe
 d)\n 	Emergency blanket (can be bought at the cupboard)\n 	Enclosed Shoes 
 (old sneakers are a good choice)\n 	Thick socks\n 	Torch\n 	Thermals (not 
 cotton!) if you're an extra cold person\, to wear underneath\n 	Dry Clothe
 s/thermals/jumper for emergency (inside drybag)\n 	Dry clothes to leave in
  the car\n 	Sunscreen\n 	Helmet\,\n 	Wetsuit (Can be borrowed from the clu
 b)\n 	Harness\, descender and carabiner (Can be borrowed)\n 	Safety sling 
 and biner (Can be borrowed)\n 	You can also bring an old pair of gloves if
  you get cold hands\n 	NO COTTON\n\n&nbsp\;\n\nLet us know your abseiling/
 canyoning experience down below as well as your favourite snack to take ou
 tdoors!
CATEGORIES:Canyoning
END:VEVENT
BEGIN:VTIMEZONE
TZID:Australia/Sydney
X-LIC-LOCATION:Australia/Sydney
BEGIN:DAYLIGHT
DTSTART:20221002T030000
TZOFFSETFROM:+1000
TZOFFSETTO:+1100
TZNAME:AEDT
END:DAYLIGHT
END:VTIMEZONE
END:VCALENDAR