BEGIN:VCALENDAR
VERSION:2.0
PRODID:-//wp-events-plugin.com//7.2.3.1//EN
TZID:Australia/Sydney
X-WR-TIMEZONE:Australia/Sydney
BEGIN:VEVENT
UID:451@unswoc.org
DTSTART:20140315T050000Z
DTEND:20140316T070000Z
DTSTAMP:20140312T164635Z
URL:https://unswoc.org/wordpress/events/beginner-canyon-twister-rocky-cree
 k/
SUMMARY:Beginner's Canyon - Twister &amp\; Rocky Creek
DESCRIPTION:Hey guys and gals\,\n\nI'm planning to run a beginner canyon th
 is sunday\, Twister &amp\; Rocky Creek in the Blue Mountains near Newnes. 
 It's a super fun one with water jumps and slides and there are no abseils.
 \n\nWe'll be leaving SATURDAY evening! And staying at Tilly's dads place i
 n Lithgow\, to make for a nice early start Sunday. To avoid other groups.
  Should take about 5-6 hours depending on the size of our group (Limiting
  to around 10)\n\nWHAT TO BRING\n\nThe golden rule of canyoning:\nCOLD COT
 TON CANNOT COME CANYONING. Cotton will rob you of body heat\, wear synthet
 ics or wool instead.\n\nYOU WILL REQUIRE:\n\n1. A WETSUIT AND SWIMMERS –
  Unless you are very resistant to cold the water is too cold to swim witho
 ut a wetsuit. You can buy cheap wetsuits second hand from Vinnies and othe
 r second hand stores\, or cheap ones from anaconda. It is also recommended
  for extra warmth that you wear thermals under your wetsuit.\n\n2. SHOES A
 ND SOCKS you can get wet and dirty such as sandshoes or volleys – No fli
 p flops\, no sandals\, or crocs. You can buy volleys from Big W or Target 
 for cheap. Wear warm woolen\, synthetic\, or neoprene socks too.\n\n3. BAC
 KPACK AND DRY BAG – that can fit a wetsuit\, helmet\, lunch/snacks\, at 
 least 1L of water\, sunscreen\, and a warm jacket or jumper. This bag will
  get wet as you are swimming most of the time. You will also need a dry ba
 g inside your backpack to keep your lunch and other items dry. If you do n
 ot have a dry bag\, you can tie your stuff up in multiple plastic bags\, a
 t least 3 or 4.\n\n4. HELMET – Climbing or bike helmet. You will not be 
 able to come unless you have a helmet\, whether it is a climbing helmet or
  a bike helmet due to the danger of rock fall.\n\n5. TORCH – preferably 
 a head torch. We should be out well before dark – but you never know and
  we should be prepared in case the trip takes longer than expected.\n\nChe
 ck our canyoning page for more details on what else to bring\nhttp://unswo
 c.org/wordpress/sports/canyoning/\n\nWe will need 2 or 3 people who can dr
 ive and another couple of experienced canyoners to help out would be great
 .\n\nCheers\,\n\nBrendan.
CATEGORIES:Canyoning
LOCATION:\, \, 
X-APPLE-STRUCTURED-LOCATION;VALUE=URI;X-ADDRESS=\, ;X-APPLE-RADIUS=100;X-TI
 TLE=:geo:0,0
END:VEVENT
END:VCALENDAR