BEGIN:VCALENDAR
VERSION:2.0
PRODID:-//wp-events-plugin.com//7.2.3.1//EN
TZID:Australia/Sydney
X-WR-TIMEZONE:Australia/Sydney
BEGIN:VEVENT
UID:3361@unswoc.org
DTSTART;TZID=Australia/Sydney:20231119T100000
DTEND;TZID=Australia/Sydney:20231119T173000
DTSTAMP:20250310T124738Z
URL:https://unswoc.org/wordpress/events/beginner-canyon-twister-rocky-cree
 k-3/
SUMMARY:[Cancelled] Beginner Canyon - Twister/Rocky Creek
DESCRIPTION:Margot and I (Mali) will be running a 2 for 1 canyon special th
 rough Twister and Rocky Creek this coming Sunday 19th. Get ready for jum
 ps and slides galore\, followed by some of the best quality slot canyon ar
 ound. This canyon contains no abseils so our packs will be lighter!\n\n\n\
 n&nbsp\;\n\nFor those new to the club or sport\, canyoning is all about fi
 nding a river that flows down through a narrow gorge in the earth. You’l
 l get to jump\, slide\, scramble and swim your way down through this narro
 w canyon while admiring the beautiful rock formation\, ferns and moss. Man
 y canyons also involve abseiling down waterfalls\, but not this one\, maki
 ng Twister/Rocky a bit more accessible for newcomers! But don’t let that
  fool you experienced canyoners\, Rocky creek is a stunning slot and gets 
 a 10/10 score.\n\n&nbsp\;\n\nWhat we’ll be doing:\n\n 	10am meet up at t
 he carpark\, located at -33.28541\, 150.28516\n 	Walk 500 m to Twister Cre
 ek\n 	Swim\, jump and slide our way through Twister\n 	Walk 500 m more to 
 the start of Rocky Creek\n 	Explore Rocky Creek\n 	Reverse back up Rocky c
 reek\n 	Walk 1.2 km back to the cars\n\n&nbsp\;\n\nWhat to bring:\n\n 	Foo
 d (lunch\, snacks for a days exercise)\n 	Water (2L)\n 	Old sneakers or ot
 her grippy shoes that may get trashed\n 	Wetsuit*\n 	Helmet*\n 	Dry bag*\n
  	Emergency blanket*\n 	A set of dry clothes to walk in/out with\n 	Therma
 ls and a jumper (to stay warm in an emergency)\n 	(Optional) canyon bag*\n
 \n*Can be borrowed from the gear cupboard\, free with a deposit for a club
  trip. Emergency blankets are an exception but can be bought at the cupboa
 rd for $5.\n\nPlease comment below your canyoning experience (no worries i
 f it’s your first time) and tell me your favourite river so I know you
 ’ve read the post!\n\nThanks to Dan for the excellent trip description :
 )
CATEGORIES:Canyoning
LOCATION:https://www.google.com/maps/place/Rocky+Creek+Trail,+Newnes+Platea
 u+NSW+2790/@-33.2832945,150.2803743,17z/data=!3m1!4b1!4m6!3m5!1s0x6b0d9235
 6f32afa3:0x247a19e9b314cc86!8m2!3d-33.283299!4d150.2829492!16s%2Fg%2F11cjg
 bwhp3?entry=ttu
END:VEVENT
BEGIN:VTIMEZONE
TZID:Australia/Sydney
X-LIC-LOCATION:Australia/Sydney
BEGIN:DAYLIGHT
DTSTART:20231001T030000
TZOFFSETFROM:+1000
TZOFFSETTO:+1100
TZNAME:AEDT
END:DAYLIGHT
END:VTIMEZONE
END:VCALENDAR