BEGIN:VCALENDAR
VERSION:2.0
PRODID:-//wp-events-plugin.com//7.2.3.1//EN
TZID:Australia/Sydney
X-WR-TIMEZONE:Australia/Sydney
BEGIN:VEVENT
UID:3644@unswoc.org
DTSTART;TZID=Australia/Sydney;VALUE=DATE:20250901
DTEND;TZID=Australia/Sydney;VALUE=DATE:20250902
DTSTAMP:20250829T123154Z
URL:https://unswoc.org/wordpress/events/beginner-canyon-no-experience-no-w
 orrys/
SUMMARY:Beginner canyon - No experience? No worrys!
DESCRIPTION:Wanna go canyoning but been told that "it's to cold" or even "y
 ou can only go canyoning in the summer"\n\nWell im here to tell you that n
 ot only is that person probably really boring 😴 but is also a liar too!
 ! because i say canyon summer has officially started\n\nSo\, I'm inviting 
 you along with 5 other cool people to come run through gobsmacker canyon 
 with Raff and I this Monday!\n\nNow for the important stuff\n\nFor those w
 ho are lucky enough to come canyoning with me\, Raff will be opening the g
 ear cupboard this weekend just for you!\n\nSee below for a list of things 
 you need to bring. If you don’t have all the pieces\, well let's just sa
 y you will have a fun day exploring the local carpark\n\nAvailable to borr
 ow from the Club:\n\n 	Canyoning harness\n 	Helmet\n 	Wetsuit (must be 5mm
  (i will be measuring))\n 	2x Locking carabiners\n 	1x Figure 8 descender\
 n 	1x Safety sling\n 	Drybag/keg\n\nOther gear you must bring:\n\n 	Backpa
 ck that can fit ALL your gear and that can get wet (30L+)\n 	Emergency bla
 nket – (can buy from Gear Cupboard for $5 or from chemists\, shops\, etc
 )\n 	Enclosed shoes with good grip\, suitable for water and bushwalking\n 
 	Wool or neoprene or other thick socks\n 	Boardshorts to wear on top of we
 tsuit (compulsory to protect the club wetsuits)\n 	Thermals and raincoat\n
  	Swimmers for under wetsuit\n 	NO COTTON! (this includes socks\, shirts\,
  pants\, etc)\n 	2L of water\n 	Lunch\n 	Snacks to share with meee 😋\n 
 	Medication (asthma puffer\, Epipen etc)\n 	Headtorch + spare batteries\n 
 	Dry clothes and a towel for the drive back home\n\nIn the comment tell me
  what your experience is i.e can you absail\, and I also want to know what
  we call people who say "it's too cold to go canyoning in winter"
ATTACH;FMTTYPE=image/jpeg:https://unswoc.org/wordpress/wp-content/uploads/
 2025/08/VideoCapture_20250829-163943.jpg
CATEGORIES:Canyoning
LOCATION:https://maps.app.goo.gl/NX7qNZvtCv5vB1pAA
END:VEVENT
BEGIN:VTIMEZONE
TZID:Australia/Sydney
X-LIC-LOCATION:Australia/Sydney
BEGIN:STANDARD
DTSTART:20250406T020000
TZOFFSETFROM:+1100
TZOFFSETTO:+1000
TZNAME:AEST
END:STANDARD
END:VTIMEZONE
END:VCALENDAR