BEGIN:VCALENDAR
VERSION:2.0
PRODID:-//wp-events-plugin.com//7.2.3.1//EN
TZID:Australia/Sydney
X-WR-TIMEZONE:Australia/Sydney
BEGIN:VEVENT
UID:3118@unswoc.org
DTSTART;TZID=Australia/Sydney;VALUE=DATE:20221210
DTEND;TZID=Australia/Sydney;VALUE=DATE:20221211
DTSTAMP:20221205T135019Z
URL:https://unswoc.org/wordpress/events/beginner-canyon-lower-bowens-creek
 -north/
SUMMARY:[Beginner Canyon] Lower Bowens Creek North
DESCRIPTION:Come join Zee\, Elliot and I on a canyon this Saturday with a s
 eries of abseils and beautiful scenery!\n\nWhat you need to know? Expect a
  great day canyoning for around 8 hours\, a walk up the river at the end\,
  and a scramble to exit.\n\nEssential gear:\n\n 	Space blanket/emergency b
 lanket (mandatory!).\n 	Headlamp (mandatory) w/ batteries\n 	Lunch/snacks 
 and water (2L) for 8 hrs of potential canyoning. Fuelling yourselves is es
 sential\n 	Spare dry clothes/thermals/jumper/beanie (a second set can also
  be left in the car to change into after)\n 	Dry bag to keep electronics/s
 pare clothes dry.\n 	Appropriate clothing - NO COTTON - when wet it loses 
 heat fast! Think hiking/nylon clothes with boardies/swim shorts to protect
  wetsuit from damage.\n 	Shoes with good grip and suitable for water - tra
 iners with warm (non cotton) socks.\n 	Wet-suit (BYO if you have one\, els
 e borrow from Gear Shed)\n 	Wet-suit booties/gloves or wool socks (If you 
 have them)\n 	Helmet (BYO if you have one\, else borrow from Gear Shed)\n 
 	Harness (BYO if you have one\, else borrow from Gear Shed)\n 	Descender/ 
 Figure 8 and Karabiner (BYO if you have one\, else borrow from Gear Shed)\
 n 	Safety Sling and Karabiner (BYO if you have one\, else borrow from Gear
  Shed)\n 	+30L backpack to keep your drybag/gear. Expect it to get wet/scr
 atched.\n 	Any medication/medical devices you need.\n\nPlease comment any 
 experience/hype/questions and favourite candy\, in the comment box below (
 Make sure to say something! - it best to have a mix of beginners and exper
 ienced). Also comment where you'll be heading from\, if you have a car and
  the number of seats available.
CATEGORIES:Canyoning
END:VEVENT
BEGIN:VTIMEZONE
TZID:Australia/Sydney
X-LIC-LOCATION:Australia/Sydney
BEGIN:DAYLIGHT
DTSTART:20221002T030000
TZOFFSETFROM:+1000
TZOFFSETTO:+1100
TZNAME:AEDT
END:DAYLIGHT
END:VTIMEZONE
END:VCALENDAR