BEGIN:VCALENDAR
VERSION:2.0
PRODID:-//wp-events-plugin.com//7.2.3.1//EN
TZID:Australia/Sydney
X-WR-TIMEZONE:Australia/Sydney
BEGIN:VEVENT
UID:3529@unswoc.org
DTSTART;TZID=Australia/Sydney;VALUE=DATE:20250223
DTEND;TZID=Australia/Sydney;VALUE=DATE:20250224
DTSTAMP:20250323T131246Z
URL:https://unswoc.org/wordpress/events/beginner-canyon-lower-bowens-creek
 -north-gobsmacker-sunday-23-feb/
SUMMARY:[FULL] Beginner Canyon - Lower Bowens Creek North (Gobsmacker) - Su
 nday 23 Feb
DESCRIPTION:Hey everyone!\n\nJason\, Sudarshan and I (Cornellius) will be r
 unning a beginner's canyoning trip to Bowens Creek North (Lower)\, a.k.a. 
 Gobsmacker.\n\n\n\n(That feeling when you've been voluntold to bottom bela
 y)\n\nWe'll bushwalk down to the canyon to swim\, abseil\, walk\, crawl\, 
 and scramble our way through some very cold water in our wetsuits before h
 eading back to our cars\, totalling 8 hours of fun!\n\nPlease ensure you b
 ring ALL the gear listed below:\n\nGear available to borrow from the Gear
  Cupboard:\n\n 	Canyoning harness\n 	Helmet\n 	2x Locking carabiners\n 	1x
  Figure 8 descender\n 	1x Safety sling\n 	Drybag \n 	Canyoning pack (subj
 ect to availability)\n 	Wetsuit (check that it fits!!)\n 	Emergency blanke
 t – (can buy from Gear Cupboard for $5 or from chemists\, shops\, etc)\
 n\nOther gear you MUST bring:\n\n 	(If you can't borrow a canyoning pack)
  Backpack that can fit ALL your gear and that can get wet (30L+)\n 	Clothi
 ng:\n\n 	Enclosed shoes with good grip\, suitable for water and bushwalki
 ng\n 	Wool or neoprene socks\n 	Boardshorts to wear on top of wetsuit (c
 ompulsory to protect the club wetsuits)\n 	Thermals and raincoat\n 	Swimme
 rs for under wetsuit\n 	NO COTTON! (this includes socks\, shirts\, pants\
 , etc)\n\n\n 	Food:\n\n 	2L of water\n 	Lunch\n 	Snacks to share!\n\n\n 	O
 ther:\n\n 	Medication (asthma puffer\, Epipen etc)\n 	Headtorch + spare b
 atteries\n 	Dry clothes for the drive home\n\n\n\nSome info on Gobsmacker:
  https://ropewiki.com/Bowens_Creek_North_(Lower)\n\nIf you have any questi
 ons\, send me a message on Facebook: https://m.me/cornellius.putraoscar\n\
 nPlease let me know in the comments:\n\n 	Your abseiling/canyoning experie
 nce (none is ok!)\n 	Your fitness level and outdoors experience\n 	Your sw
 imming ability (you MUST be able to swim)\n 	If you have a car\, and if so
 \, how many spots you have\n 	What snack you'll bring to share with me on 
 Sunday (I take bribes)\n\nGet keen!\n\n[bl_list_participants]
CATEGORIES:Canyoning
LOCATION:https://www.google.com/maps/place/33%C2%B030'59.0%22S+150%C2%B022'
 19.9%22E/@-33.5164,150.3546,5809m/data=!3m1!1e3!4m4!3m3!8m2!3d-33.5164!4d1
 50.3722!5m1!1e4?entry=ttu&g_ep=EgoyMDI1MDIxMi4wIKXMDSoJLDEwMjExNDU1SAFQAw%
 3D%3D
END:VEVENT
BEGIN:VTIMEZONE
TZID:Australia/Sydney
X-LIC-LOCATION:Australia/Sydney
BEGIN:DAYLIGHT
DTSTART:20241006T030000
TZOFFSETFROM:+1000
TZOFFSETTO:+1100
TZNAME:AEDT
END:DAYLIGHT
END:VTIMEZONE
END:VCALENDAR