BEGIN:VCALENDAR
VERSION:2.0
PRODID:-//wp-events-plugin.com//7.2.3.1//EN
TZID:Australia/Sydney
X-WR-TIMEZONE:Australia/Sydney
BEGIN:VEVENT
UID:3362@unswoc.org
DTSTART;TZID=Australia/Sydney;VALUE=DATE:20231126
DTEND;TZID=Australia/Sydney;VALUE=DATE:20231127
DTSTAMP:20231125T220612Z
URL:https://unswoc.org/wordpress/events/beginner-canyon-lower-bowens-creek
 -north-2/
SUMMARY:[FULL][Beginner Canyon] Lower Bowens Creek North
DESCRIPTION:\n\nJoin Frenchy and I (Luke) on a canyon trip this Saturday ex
 ploring the spectacular upper reaches of Bowens Creek!\n\nExpect a great d
 ay canyoning for around 8 hours with plenty of bushwalking\, rock scrambli
 ng\, cold swims\, and abseiling.\n\nPlease make sure you bring ALL gear li
 sted below!\n\n&nbsp\;\n\nGear available to borrow from the Gear Cupboard:
 \n\n 	Harness\n 	Helmet\n 	3x locking carabiners\n 	1x Figure 8 / Descend
 er\n 	1x Safety sling\n 	Drybag\n 	Wetsuit\n 	Emergency blanket – (can b
 uy from Gear Cupboard for $5 or from chemists\, shops\, etc)\n\n&nbsp\;\n\
 nOther gear you MUST bring:\n\n 	Backpack that can fit ALL your gear and 
 that can get wet (30L+)\n 	Clothing:\n\n 	Enclosed shoes with good grip\, 
 suitable for water and bushwalking\n 	Wool or neoprene socks\n 	Boardshor
 ts to wear on top of wetsuit (compulsory to protect the club wetsuits)\n 
 	Thermals and raincoat\n 	Swimmers for under wetsuit\n 	NO COTTON! (this 
 includes socks\, shirts\, pants\, undies\, etc)\n\n\n 	Food:\n\n 	2L of wa
 ter\n 	Lunch\n 	Snacks to share!\n\n\n 	Other:\n\n 	Medication (asthma puf
 fer\, Epipen etc)\n 	Headtorch + spare batteries\n 	dry clothes for the d
 rive home\n\n\n\n&nbsp\;\n\nIn the comments let us know your abseiling/can
 yoning experience (none is ok!!)\, if you have a car and how many spots yo
 u have\, and what snacks you will bring to share with me :)\n\nGet keen
CATEGORIES:Canyoning
LOCATION:https://www.google.com.au/maps/place/33%C2%B030'59.2%22S+150%C2%B0
 22'20.1%22E/@-33.5164343,150.3696805,926m/data=!3m2!1e3!4b1!4m4!3m3!8m2!3d
 -33.5164388!4d150.3722554!5m1!1e4?entry=ttu
END:VEVENT
BEGIN:VTIMEZONE
TZID:Australia/Sydney
X-LIC-LOCATION:Australia/Sydney
BEGIN:DAYLIGHT
DTSTART:20231001T030000
TZOFFSETFROM:+1000
TZOFFSETTO:+1100
TZNAME:AEDT
END:DAYLIGHT
END:VTIMEZONE
END:VCALENDAR