BEGIN:VCALENDAR
VERSION:2.0
PRODID:-//wp-events-plugin.com//7.2.3.1//EN
TZID:Australia/Sydney
X-WR-TIMEZONE:Australia/Sydney
BEGIN:VEVENT
UID:506@unswoc.org
DTSTART:20140830T220000Z
DTEND:20140831T050000Z
DTSTAMP:20140811T012429Z
URL:https://unswoc.org/wordpress/events/beginner-canyon-jugglers/
SUMMARY:Beginner Canyon - Jugglers
DESCRIPTION:Beginner Canyoning trip!\n\nSaturday the 30th of August I'm run
 ning a beginner canyoning trip through Jugglers Canyon. Details on the can
 yon can be found on ozultimate.com\n\nhttp://ozultimate.com/canyoning/trac
 k_notes/jugglers.htm\n\nThis trip will also serve as my TAFE assessment fo
 r canyon guiding\, so we'll have a guru canyon guiding TAFE instructor by 
 the name of Owain along for the ride. Unfortunately this also means the gr
 oup size is limited to 6 due to TAFE rules.\n\nFor the trip you'll need so
 me fitness\, no experience and minimal equipment which I'll tell you all a
 bout before the trip.\n\nAny questions - feel free to ask! peddey@gmail.co
 m 0411 467 041\n\n&nbsp\;\n\n&nbsp\;
CATEGORIES:Canyoning
END:VEVENT
END:VCALENDAR