BEGIN:VCALENDAR
VERSION:2.0
PRODID:-//wp-events-plugin.com//7.2.3.1//EN
TZID:Australia/Sydney
X-WR-TIMEZONE:Australia/Sydney
BEGIN:VEVENT
UID:3610@unswoc.org
DTSTART;TZID=Australia/Sydney:20250713T060000
DTEND;TZID=Australia/Sydney:20250713T170000
DTSTAMP:20250708T060405Z
URL:https://unswoc.org/wordpress/events/beginner-canyon-jugglers-canyon-dr
 y-sunday-13th-july-2025/
SUMMARY:Beginner Canyon - Jugglers Canyon (dry) - Sunday 13th July 2025
DESCRIPTION:\nHi everyone!\n\n\n\nCornellius and I (Michael) will be runnin
 g a beginner's canyoning trip through Jugglers canyon! Jugglers is a super
  pleasant (mostly dry) canyon near the Grand Canyon at Medlow Bath.\n\n\n\
 n\n\nThis is a whole day adventure so you need to be fit! It’s alright 
 if you have not abseiled before\, we can show you the ropes. Please fill o
 ut the form when you sign up and comment with your experience (if you do
 n’t have rope skills\, just comment what other outdoor activities you ha
 ve done) and your favorite outdoors snack so we know you've read the bri
 ef (preferably also bring it to the canyon 😀 )!\n\n\n\nThis is a dry ca
 nyon so we don’t expect to get too wet (possibly wet feet\, but probably
  no swims)\, but it will still be chilly\, so bring warm clothing. I usual
 ly wear thermals\, a pair of old shorts/pants\, a warm shirt and a rain ja
 cket on top. Synthetic or woolen clothing is best\, avoid cotton. Please i
 f you do own thermals bring them!! They make a massive difference and will
  make the trip a lot more enjoyable if you find yourself getting cold. Rem
 ember you can always take them off\, but there's not much you can do if yo
 u haven't brought them at all.\n\n\n\nYou can find more info and pics here
 : https://ozultimate.com/canyoning/track_notes/jugglers.htm\n\n\n\nPlease 
 ensure you bring ALL the gear listed below:\n\n\n\n\nHarness*\n\n\n\nHel
 met*\n\n\n\n2x Locking carabiners*\n\n\n\n1x Figure 8 descender*\n\n\n\n1
 x Safety sling*\n\n\n\nEmergency blanket – (can buy from Gear Cupboard 
 for $5 or from chemists\, shops\, etc)\n\n\n\nBackpack that can get wet\n\
 n\n\nHeadtorch (if you don't have a head torch\, bring at least some kind 
 of torch)\n\n\n\nDrybag*\n\n\n\nRunners that may get trashed\n\n\n\nTherma
 ls and woolen or synthetic socks (don’t wear ANY cotton\, you will be mi
 serably cold if you get wet!)\n\n\n\nSpare set of thermals to carry in you
 r drybag (for emergencies)\n\n\n\nRain jacket\n\n\n\nLunch and snacks!\n\n
 \n\nAt least 2L of water\n\n\n\nMedication (asthma puffer\, Epipen etc)\n
 \n\n\nDry clothes and shoes for the car ride back\n\n\n\nAdventure spirit 
 and heaps of good mood!\n\n\n\n\n*you can get this from the club on gear n
 ight (check the unswoc page to hire)\n\n\n\nIf you have any questions abou
 t gear\, the gear officers will be able to help you on Thursday night at t
 he gear cupboard. Ask them all the questions you want. Feel free to reach 
 out to me or Cornellius on facebook if you have any questions about the ca
 nyon! https://m.me/cornellius.putraoscar\, https://facebook.com/michael.al
 exander.588703\n\n\n\nWe will meet at the carpark pretty early (8-9am!) an
 d we probably need some drivers so please let me know if you have a car!
 \n\n\n\nGet keen and see ya there!\n\n\n\nCheers\,\n\n\n\nMichael and Corn
 ellius\n
CATEGORIES:Canyoning
LOCATION:https://www.google.com/maps/place/Grand+Canyon+Walking+Track/@-33.
 649376,150.318841,697m/data=!3m2!1e3!4b1!4m6!3m5!1s0x6b1271e4b53a9b5d:0xee
 78324e498362e!8m2!3d-33.649376!4d150.3214159!16s%2Fg%2F1thr79tw?entry=ttu&
 g_ep=EgoyMDI0MDkxNS4wIKXMDSoASAFQAw%3D%3D
END:VEVENT
BEGIN:VTIMEZONE
TZID:Australia/Sydney
X-LIC-LOCATION:Australia/Sydney
BEGIN:STANDARD
DTSTART:20250406T020000
TZOFFSETFROM:+1100
TZOFFSETTO:+1000
TZNAME:AEST
END:STANDARD
END:VTIMEZONE
END:VCALENDAR