BEGIN:VCALENDAR
VERSION:2.0
PRODID:-//wp-events-plugin.com//7.2.3.1//EN
TZID:Australia/Sydney
X-WR-TIMEZONE:Australia/Sydney
BEGIN:VEVENT
UID:3371@unswoc.org
DTSTART;TZID=Australia/Sydney:20240217T090000
DTEND;TZID=Australia/Sydney:20240217T163000
DTSTAMP:20240216T231054Z
URL:https://unswoc.org/wordpress/events/beginner-canyon-grand/
SUMMARY:Beginner Canyon – Grand
DESCRIPTION:\n\n\nHello\, and welcome to the first club canyon of the trime
 ster!\n\nOn Saturday 17th of Feb\, Jayden\, Gabe\, and myself (Ryan) will 
 be running a trip to Grand Canyon.\n\n\n\n\n\nThis is a beginner canyonin
 g trip for those newer to the sport. Given it’s the start of the year\, 
 there are many keen beans\; please read the full post and only request a s
 pot if you’re sure you can make it and are one of those keen beans.\n\n\
 nYou will need to arrange your own gear (items with an asterisk* can be bo
 rrowed from the club gear cupboard):\n\n\n\n 	Harness* (ideally a canyonin
 g harness with bumpad)\n 	Helmet*\n 	Wetsuit*\n 	Neoprene gloves/ booties
 \n 	3x locking carabiner*\n 	1x figure 8 descender*\n 	1x safety* (a 120cm
  sling is acceptable)\n 	1x large drybag*\n 	Emergency blanket (can be pur
 chased from the gear cupboard\, most outdoor stores\, and pharmacies for $
 5-10)\n 	Backpack to store all of your gear\n 	Headtorch\n 	Cash for fue
 l (please make sure to split the cost with your driver\, and maybe even ge
 t them a little treat)\n 	Clothing –\n\n 	Enclosed shoes with good grip 
 (e.g. old sneakers) (remember you will climb out in these!)\n 	Dry and sun
 -safe clothes to hike in/out of the canyon in\n 	Boardshorts to wear on to
 p of wetsuit (compulsory to protect the club wetsuits)\n 	Thick socks\n 	L
 ight raincoat that is ok to get wet\n 	Thermal top and bottoms\, jumper &a
 mp\; beanie (e.g. enough clothing to keep warm in a canyon overnight in an
  emergency)\n 	Optional: swimmers to put under your wetsuit\, microfibre t
 owel\n 	DO NOT BRING COTTON CLOTHING.\n\n\n\n\n 	Food –\n\n 	1.5L of wat
 er in bottles\n 	Substantial lunch (pack it in a waterproof container\, an
 d make sure it’s vaguely crush-proof)\n 	Snacks\n\n\n 	Any personal medi
 cine (asthma puffer\, Epipen etc)\n\nIf you have any questions\, message o
 ne of the trip leaders on Facebook. Include your abseiling / outdoor exper
 ience in the comment when signing up\, your favourite snack (so we know yo
 u’ve read this far)\, whether you have a car\, and how many spots you ha
 ve. Please be aware that this trip is weather-dependent. See you soooooooo
 oon!\n\nThanks Matt for the post scaffold!\n\n\n
ATTACH;FMTTYPE=image/jpeg:https://unswoc.org/wordpress/wp-content/uploads/
 2015/03/GrandCanyonHeritageWalk.jpg
CATEGORIES:Canyoning
LOCATION:https://maps.app.goo.gl/TEN4uVc9zwMMf5jx5
END:VEVENT
BEGIN:VTIMEZONE
TZID:Australia/Sydney
X-LIC-LOCATION:Australia/Sydney
BEGIN:DAYLIGHT
DTSTART:20231001T030000
TZOFFSETFROM:+1000
TZOFFSETTO:+1100
TZNAME:AEDT
END:DAYLIGHT
END:VTIMEZONE
END:VCALENDAR