BEGIN:VCALENDAR
VERSION:2.0
PRODID:-//wp-events-plugin.com//7.2.3.1//EN
TZID:Australia/Sydney
X-WR-TIMEZONE:Australia/Sydney
BEGIN:VEVENT
UID:2001@unswoc.org
DTSTART;VALUE=DATE:20160424
DTEND;VALUE=DATE:20160425
DTSTAMP:20160423T105633Z
URL:https://unswoc.org/wordpress/events/beginner-canyon-bowens-creek-north
 /
SUMMARY:beginner canyon - lower bowens creek north
DESCRIPTION:Hey guys :)\n\nBayu and I are leading Lower bowens north on Sun
 day. It is a relatively short but pretty canyon with 2 abseils and quite a
  few little swims (if I remember correctly). You'd definitely want to have
  a wetsuit! :)\n\nSuitable for complete beginners :)\n\nhttp://ozultimate.
 com/canyoning/track_notes/lower_bowens_creek_north.htm\n\nWe are limiting 
 spots to just 2 ppl to start with because we only have 1 car so far! Sign 
 up anyway though\, and I'll approve more if spots open up\n\nPlease PM/ema
 il me with 1) phone number\, 2) whether u have a car and are willing to dr
 ive\, 3) previous canyoning experience\n\nThings to bring:\n\n	Helmet\n	We
 tsuit\n	Optional: thermals to wear under your wetsuit\n	Harness\n	ATC\n	Sa
 fety sling and locking biner\n	Dry bag (or use multiple plastic bags at yo
 ur own risk \;))\n	Dry set of thermals (for emergencies - to keep dry the 
 entire trip)\n	Lunch and water\n	Woollen socks (no cotton!)\n	Closed shoes
  (Dunlop volleys recommended :) sneakers will work too)\n\nLet me know if 
 you have questions
CATEGORIES:Canyoning
END:VEVENT
END:VCALENDAR