BEGIN:VCALENDAR
VERSION:2.0
PRODID:-//wp-events-plugin.com//7.2.3.1//EN
TZID:Australia/Sydney
X-WR-TIMEZONE:Australia/Sydney
BEGIN:VEVENT
UID:559@unswoc.org
DTSTART:20140915T230000Z
DTEND:20140916T050000Z
DTSTAMP:20140908T151839Z
URL:https://unswoc.org/wordpress/events/beginner-bouldering/
SUMMARY:Beginner Bouldering
DESCRIPTION:Hey guys\, Matthew Hamlyn and myself (Niels Bardoel) will be ru
 nning a bouldering trip on TUESDAY for those of you busy on the weekends
  with jobs and the like.\n\nWe will be heading to the lovely and leafy Nor
 th side of the Harbour to Lindfield Rocks. Here is some info on where we 
 are going: http://www.thecrag.com/climbing/australia/north-shore/area/120
 11227\n\nTransport is to be organised on Facebook\, but the gist is we wil
 l drive there and run shuttles from lindfield station at 9:55 (9:24 train 
 from Central) to the carpark. If you're late it's is just a 15 minute wal
 k from Lindfield Station. I will be driving from uni with all the boulderi
 ng mats and shoes.\n\nIf you can bring a bouldering mat that would be swel
 l\, otherwise some lunch\, water\, shoes\, chalk\, and skin to spare is al
 l you'll need.\n\n&nbsp\;\n\nCheers\n\nNiels\n\n0417 635 171
CATEGORIES:Outdoor Climbing
LOCATION:Lindfield Rocks\, 83 Tryon Rd\, Lindfield\, Australia
GEO:-33.771114;151.179749
X-APPLE-STRUCTURED-LOCATION;VALUE=URI;X-ADDRESS=83 Tryon Rd\, Lindfield\, A
 ustralia;X-APPLE-RADIUS=100;X-TITLE=Lindfield Rocks:geo:-33.771114,151.179
 749
END:VEVENT
END:VCALENDAR